BEGIN:VCALENDAR
VERSION:2.0
PRODID:-//Djlatinpro - ECPv6.15.20//NONSGML v1.0//EN
CALSCALE:GREGORIAN
METHOD:PUBLISH
X-WR-CALNAME:Djlatinpro
X-ORIGINAL-URL:https://djlatinpro.com
X-WR-CALDESC:Events for Djlatinpro
REFRESH-INTERVAL;VALUE=DURATION:PT1H
X-Robots-Tag:noindex
X-PUBLISHED-TTL:PT1H
BEGIN:VTIMEZONE
TZID:Europe/Amsterdam
BEGIN:DAYLIGHT
TZOFFSETFROM:+0100
TZOFFSETTO:+0200
TZNAME:CEST
DTSTART:20230326T010000
END:DAYLIGHT
BEGIN:STANDARD
TZOFFSETFROM:+0200
TZOFFSETTO:+0100
TZNAME:CET
DTSTART:20231029T010000
END:STANDARD
BEGIN:DAYLIGHT
TZOFFSETFROM:+0100
TZOFFSETTO:+0200
TZNAME:CEST
DTSTART:20240331T010000
END:DAYLIGHT
BEGIN:STANDARD
TZOFFSETFROM:+0200
TZOFFSETTO:+0100
TZNAME:CET
DTSTART:20241027T010000
END:STANDARD
BEGIN:DAYLIGHT
TZOFFSETFROM:+0100
TZOFFSETTO:+0200
TZNAME:CEST
DTSTART:20250330T010000
END:DAYLIGHT
BEGIN:STANDARD
TZOFFSETFROM:+0200
TZOFFSETTO:+0100
TZNAME:CET
DTSTART:20251026T010000
END:STANDARD
BEGIN:DAYLIGHT
TZOFFSETFROM:+0100
TZOFFSETTO:+0200
TZNAME:CEST
DTSTART:20260329T010000
END:DAYLIGHT
BEGIN:STANDARD
TZOFFSETFROM:+0200
TZOFFSETTO:+0100
TZNAME:CET
DTSTART:20261025T010000
END:STANDARD
BEGIN:DAYLIGHT
TZOFFSETFROM:+0100
TZOFFSETTO:+0200
TZNAME:CEST
DTSTART:20270328T010000
END:DAYLIGHT
BEGIN:STANDARD
TZOFFSETFROM:+0200
TZOFFSETTO:+0100
TZNAME:CET
DTSTART:20271031T010000
END:STANDARD
END:VTIMEZONE
BEGIN:VEVENT
DTSTART;TZID=Europe/Amsterdam:20260328T080000
DTEND;TZID=Europe/Amsterdam:20260329T030000
DTSTAMP:20260425T042335
CREATED:20260225T215958Z
LAST-MODIFIED:20260225T222055Z
UID:89134-1774684800-1774753200@djlatinpro.com
SUMMARY:☆LATIN-X-PLOSION☆ 2 Area's • 7 Years Anniversary
DESCRIPTION:Koop Ticket Hier &#8212;> \nDJ Latin Pro presents\n☆☆☆LATIN-X-PLOSION☆☆☆ 7 Years Anniversary \nOp zaterdag 28 maart 2026 vieren we het 7-jarig jubileum van LATIN-X-PLOSION  te Wensink in Apeldoorn. \nLatin-X-Plosion bestaat uit 2 dans-area’s speciaal geselecteerd voor de ultieme Latin & Afro experience.\nMet verschillende top dj’s achter de draaitafels\, krijg je gegarandeerd een spetterende dansavond in stijl! \nOm alvast in de juiste feeststemming te komen starten we de avond met een aantal workshops\,\ndie verzorgt worden door top dans-docenten uit de danswereld. \nDe dresscode voor het 7-jarig jubileum is GOUD.\n*Kledij is geen vereiste. \n☆☆☆☆☆☆☆☆☆☆ ☆☆☆☆☆☆☆☆☆☆ \n☆☆☆WORKSHOPS☆☆☆\n20:00- 20:55 |  Salsa o.l.v. Ramiro & Silvia (Love For Salsa)\n*Deelname aan de workshops vraagt om een vroege aanwezigheid. Deuren open om 19:50 uur! \n21:05- 22:00 | Bachata Romantica o.l.v. Micheal & Melanie (SalsaShakers) \n☆☆☆PARTY AREA☆☆☆\n20:00- 22:00 | DJ Dude &#8211; Salsa\, Bacahata\, Merengue\, Zouk\, Kizomba & Ritmo Combina \n☆☆☆ SALSA & BACHATA AREA☆☆☆\nDJ Latin Pro (Arnhem)\nDJ Virgil (Rotterdam)\nDJ Latin Master (Amersfoort) \n☆☆☆KIZOMBA AREA☆☆☆\nDJ Asile (Rotterdam)\nDJ On Fire (Utrecht) \n☆☆☆PICTURES & CLIPSHOT☆☆☆\nFotograaf Victor Reinier legt al je mooiste dansmomenten vast. \n☆☆☆☆☆☆☆☆☆☆ ☆☆☆☆☆☆☆☆☆☆ \n☆☆☆ ALGEMENE INFO ☆☆☆\nDatum: Zaterdag 28 maart 2026\nTijd: 20:00 – 02:00\n• Gratis garderobe\n• Gratis parkeerplaatsen \n☆☆☆ LOCATIE ☆☆☆\nWensink Dance Masters\nMusschenbroekstraat 19\, 7316JD te Apeldoorn \n☆☆☆ TICKETS ☆☆☆\nOnline tickets verkrijgbaar via www.latinxplosion.nl\n• Early Bird ticket: €12\,50 (beperkt aantal tickets beschikbaar)\n• Regular ticket: €15\,00\n• Door ticket: €17\,50 (cash of pin) \nKoop Ticket Hier &#8212;> \n* Tickets verkoop start op 01-03-2026 en eindigt op 28-03-2026 om 19:00 uur.\nReeds gekochte tickets alleen retour bij annulering door de organisatie.
URL:https://djlatinpro.com/event/latinxplosion7anniversary/
LOCATION:Wensink Dance Masters\, Musschenbroekstraat 19\, Apeldoorn\, Gelderland\, 7316JD\, Netherlands
CATEGORIES:bachata,Caribbean,Cuban,kizomba,live,lxp,Mambo,Party,salsa,Workshop
ATTACH;FMTTYPE=image/jpeg:https://djlatinpro.com/wp-content/uploads/2026/02/1-scaled.jpg
ORGANIZER;CN="DJ Latin Pro":MAILTO:info@djlatinpro.com
END:VEVENT
BEGIN:VEVENT
DTSTART;TZID=Europe/Amsterdam:20250628T210000
DTEND;TZID=Europe/Amsterdam:20250629T020000
DTSTAMP:20260425T042335
CREATED:20250602T161924Z
LAST-MODIFIED:20250603T212130Z
UID:86575-1751144400-1751162400@djlatinpro.com
SUMMARY:☆LATIN-X-PLOSION☆ 2 Area's || Salsa & Bachata // Kizomba
DESCRIPTION:Koop Ticket Hier &#8212;> \nDJ Latin Pro presents\n☆☆☆LATIN-X-PLOSION☆☆☆ 2 Dance Area&#8217;s \nOp zaterdag 28 juni 2025 vind LATIN-X-PLOSION plaats te Wensink in Apeldoorn. \nLatin-X-Plosion bestaat uit 2 dans-area’s speciaal geselecteerd voor de ultieme Latin & Afro experience.\nMet verschillende top dj’s achter de draaitafels\, krijg je gegarandeerd een spetterende dansavond in stijl! \nOm alvast in de juiste feeststemming te komen starten we de avond met een workshop\,\ndie verzorgt worden door verschillende top dans-docenten uit de danswereld.\nLatin-X-plosion een feest om niet te missen! \n☆☆☆☆☆☆☆☆☆☆ ☆☆☆☆☆☆☆☆☆☆ \n☆☆☆WORKSHOP☆☆☆\n21:05- 21:55 | Master Class Salsa o.l.v. Brian Libier (Salsaddiction)\n*Deelname aan de workshops vraagt om een vroege aanwezigheid. Deuren open om 20:50 uur! \n☆☆☆ SALSA & BACHATA AREA☆☆☆DJ Latin Pro (Arnhem)DJ Tinta (Amsterdam)DJ Jarzino (Amsterdam) \n☆☆☆KIZOMBA AREA☆☆☆\nDJ Afrosom (Zwolle)\nDJ Dude (Haarlem) \n☆☆☆PICTURES☆☆☆\nFotograaf Victor Reinier legt al je mooiste dansmomenten vast. \n☆☆☆☆☆☆☆☆☆☆ ☆☆☆☆☆☆☆☆☆☆ \n☆☆☆ ALGEMENE INFO ☆☆☆\nDatum: Zaterdag 28 juni 2025\nTijd: 21:00 – 02:00\n• Gratis garderobe\n• Gratis parkeerplaatsen \n☆☆☆ LOCATIE ☆☆☆\nWensink Dance Masters\nMusschenbroekstraat 19\, 7316JD te Apeldoorn \n☆☆☆ TICKETS ☆☆☆\nOnline tickets verkrijgbaar via www.latinxplosion.nl\n• Early Bird ticket: €12\,50 (beperkt aantal tickets beschikbaar)\n• Regular ticket: €15\,00\n• Door ticket: €17\,50 (cash of pin) \nKoop Ticket Hier &#8212;> \n* Tickets verkoop start op 02-06-2025 en eindigt op 28-06-2025 om 20:00 uur.\nReeds gekochte tickets alleen retour bij annulering door de organisatie.
URL:https://djlatinpro.com/event/%e2%98%86latin-x-plosion%e2%98%86-2-areas-salsa-bachata-kizomba-8/
LOCATION:Wensink Dance Masters\, Musschenbroekstraat 19\, Apeldoorn\, Gelderland\, 7316JD\, Netherlands
CATEGORIES:bachata,Caribbean,Cuban,kizomba,Latin,live,lxp,Mambo,Party,salsa,Workshop
ATTACH;FMTTYPE=image/png:https://djlatinpro.com/wp-content/uploads/2025/06/unnamed-scaled.png
ORGANIZER;CN="DJ Latin Pro":MAILTO:info@djlatinpro.com
END:VEVENT
BEGIN:VEVENT
DTSTART;TZID=Europe/Amsterdam:20250419T210000
DTEND;TZID=Europe/Amsterdam:20250420T020000
DTSTAMP:20260425T042335
CREATED:20250117T001006Z
LAST-MODIFIED:20250117T001209Z
UID:85242-1745096400-1745114400@djlatinpro.com
SUMMARY:LATIN-X-PLOSION - Live Edition
DESCRIPTION:Koop Ticket Hier &#8212;> \nDJ Latin Pro presents\n☆☆☆LATIN-X-PLOSION☆☆☆ Live Edition \nOp zaterdag 19 april 2025 vind LATIN-X-PLOSION &#8211; Live edition plaats te Wensink in Apeldoorn. \nLatin-X-Plosion bestaat uit 2 dans-area’s speciaal geselecteerd voor de ultieme Latin & Afro experience.\nMet verschillende top dj’s achter de draaitafels\, krijg je gegarandeerd een spetterende dansavond in stijl! \nOm alvast in de juiste feeststemming te komen starten we de avond met een workshop\,\ndie verzorgt worden door top dans-docenten uit de danswereld. \n☆☆☆☆☆☆☆☆☆☆ ☆☆☆☆☆☆☆☆☆☆ \n☆☆☆WORKSHOPS☆☆☆\n21:05- 22:00 | Bachata Dominican o.l.v. Marisa (Enseña Bachata)\n*Deelname aan de workshops vraagt om een vroege aanwezigheid. Deuren open om 20:50 uur! \n☆☆☆ LIVE AREA☆☆☆ Bachata &#8211; Ritmo Kombina &#8211; Caribbean mix\nLive on stage &#8221; CACHE ROYALE &#8221; mini\nDJ Latin Pro (Arnhem)\nDJ Myron (Eindhoven) \n☆☆☆SBK AREA☆☆☆ Salsa &#8211; Bachata &#8211; Kizomba\nDJ Joost (Arnhem)\nDJ JS1 (Enschede) \n☆☆☆PICTURES☆☆☆\nFotograaf Victor Reinier legt al je mooiste dansmomenten vast. \n☆☆☆☆☆☆☆☆☆☆ ☆☆☆☆☆☆☆☆☆☆ \n☆☆☆ ALGEMENE INFO ☆☆☆\nDatum: Zaterdag 19 april 2025\nTijd: 21:00 – 02:00\n• Gratis garderobe\n• Gratis parkeerplaatsen \n☆☆☆ LOCATIE ☆☆☆\nWensink Dance Masters\nMusschenbroekstraat 19\, 7316JD te Apeldoorn \n☆☆☆ TICKETS ☆☆☆\nOnline tickets verkrijgbaar via www.latinxplosion.nl\n• Early Bird ticket: €18\,50 (beperkte aantal beschikbaar)\n• Regular ticket: €21\,50\n• Late Bird / Door ticket: €25\,00 \nKoop Ticket Hier &#8212;> \n* Tickets verkoop start op 01-03-2025 en eindigt op 19-04-2025 om 20:00 uur.\nReeds gekochte tickets alleen retour bij annulering door de organisatie.
URL:https://djlatinpro.com/event/latinxplosionapril2025/
LOCATION:Wensink Dance Masters\, Musschenbroekstraat 19\, Apeldoorn\, Gelderland\, 7316JD\, Netherlands
CATEGORIES:bachata,Band,Caribbean,Cuban,kizomba,Latin,live,lxp,Mambo,Party,salsa,Workshop
ATTACH;FMTTYPE=image/png:https://djlatinpro.com/wp-content/uploads/2025/01/Facebookbanner_LatinXplosion_April2025.png
ORGANIZER;CN="DJ Latin Pro":MAILTO:info@djlatinpro.com
END:VEVENT
BEGIN:VEVENT
DTSTART;TZID=Europe/Amsterdam:20241228T200000
DTEND;TZID=Europe/Amsterdam:20241229T020000
DTSTAMP:20260425T042335
CREATED:20241003T203938Z
LAST-MODIFIED:20241211T185351Z
UID:84111-1735416000-1735437600@djlatinpro.com
SUMMARY:LATIN-X-PLOSION - Gala Edition
DESCRIPTION:Koop Ticket Hier &#8212;> \nDJ Latin Pro presents\n☆☆☆LATIN-X-PLOSION☆☆☆ Gala Edition \nOp zaterdag 28 december 2024 vind LATIN-X-PLOSION &#8211; Gala Editie plaats te Wensink in Apeldoorn. \nLatin-X-Plosion &#8211; Gala Editie bestaat uit 2 dans-area’s speciaal geselecteerd voor de ultieme Latin & Afro experience.\nMet verschillende top dj’s achter de draaitafels\, krijg je gegarandeerd een spetterende dansavond in stijl! \nOm alvast in de juiste feeststemming te komen starten we de avond met een workshop\,\ndie verzorgt worden door top dans-docenten uit de danswereld. \nDe dresscode voor de speciale LATIN-X-PLOSION editie is GALA.\n*Galakledij is geen vereiste. \n☆☆☆☆☆☆☆☆☆☆ ☆☆☆☆☆☆☆☆☆☆ \n☆☆☆WORKSHOPS☆☆☆\n20:05- 21:00 | Master Class Salsa o.l.v Brian Libier (Salsaddiction)\n*Deelname aan de workshops vraagt om een vroege aanwezigheid. Deuren open om 19:55 uur! \n☆☆☆ SALSA & BACHATA AREA☆☆☆\nJAN REIJNDERS\nDJ Latin Pro (Arnhem)\nDJ Virgil (Rotterdam) \n☆☆☆KIZOMBA AREA☆☆☆\nDJ On Fire (Utrecht)\nDJ Dairyon (Arnhem)\nDJ JS1 (Enschede) \n☆☆☆PICTURES☆☆☆\nFotograaf Victor Reinier legt al je mooiste dansmomenten vast. \n☆☆☆☆☆☆☆☆☆☆ ☆☆☆☆☆☆☆☆☆☆ \n☆☆☆ ALGEMENE INFO ☆☆☆\nDatum: Zaterdag 28 december 2024\nTijd: 20:00 – 02:00\n• Gratis garderobe\n• Gratis parkeerplaatsen \n☆☆☆ LOCATIE ☆☆☆\nWensink Dance Masters\nMusschenbroekstraat 19\, 7316JD te Apeldoorn \n☆☆☆ TICKETS ☆☆☆\nOnline tickets verkrijgbaar via www.latinxplosion.nl\n• Early Bird ticket: €12\,50 (beperkt aantal tickets beschikbaar)\n• Regular ticket: €15\,00 tot 30-11-2024\n• Late Bird ticket: €17\,50\n• Door ticket: €20\,00 \nKoop Ticket Hier &#8212;> \n* Tickets verkoop start op 03-10-2024 en eindigt op 28-12-2024 om 19:00 uur.\nReeds gekochte tickets alleen retour bij annulering door de organisatie.
URL:https://djlatinpro.com/event/gala2024/
LOCATION:Wensink Dance Masters\, Musschenbroekstraat 19\, Apeldoorn\, Gelderland\, 7316JD\, Netherlands
CATEGORIES:bachata,Caribbean,Cuban,kizomba,Latin,live,lxp,Mambo,Party,salsa,Workshop
ORGANIZER;CN="DJ Latin Pro":MAILTO:info@djlatinpro.com
END:VEVENT
BEGIN:VEVENT
DTSTART;TZID=Europe/Amsterdam:20240831T210000
DTEND;TZID=Europe/Amsterdam:20240901T020000
DTSTAMP:20260425T042335
CREATED:20240721T162432Z
LAST-MODIFIED:20240722T091003Z
UID:83641-1725138000-1725156000@djlatinpro.com
SUMMARY:LATIN-X-PLOSION - Live Edition
DESCRIPTION:Koop Ticket Hier &#8212;> \nDJ Latin Pro presents\n☆☆☆LATIN-X-PLOSION☆☆☆ Live Edition \nOp zaterdag 31 augustus 2024 vind LATIN-X-PLOSION &#8211; Live edition plaats te Wensink in Apeldoorn. \nLatin-X-Plosion bestaat uit 2 dans-area’s speciaal geselecteerd voor de ultieme Latin & Afro experience.\nMet verschillende top dj’s achter de draaitafels\, krijg je gegarandeerd een spetterende dansavond in stijl! \nOm alvast in de juiste feeststemming te komen starten we de avond met een workshop\,\ndie verzorgt worden door top dans-docenten uit de danswereld. \n☆☆☆☆☆☆☆☆☆☆ ☆☆☆☆☆☆☆☆☆☆ \n☆☆☆WORKSHOPS☆☆☆\n21:05- 22:00 | Bachata Dominican o.l.v. Marisa (Enseña Bachata)\n*Deelname aan de workshops vraagt om een vroege aanwezigheid. Deuren open om 20:50 uur! \n☆☆☆ LIVE AREA☆☆☆ Bachata &#8211; Ritmo Kombina &#8211; Caribbean mix\nLive on stage &#8221; CACHE ROYALE &#8221; mini\nDJ Latin Pro (Arnhem)\nDJ Myron (Eindhoven) \n☆☆☆SBK AREA☆☆☆ Salsa &#8211; Bachata &#8211; Kizomba\nDJ Joost (Arnhem)\nDJ JS1 (Enschede) \n☆☆☆PICTURES☆☆☆\nFotograaf Victor Reinier legt al je mooiste dansmomenten vast. \n☆☆☆☆☆☆☆☆☆☆ ☆☆☆☆☆☆☆☆☆☆ \n☆☆☆ ALGEMENE INFO ☆☆☆\nDatum: Zaterdag 31 augustus 2024\nTijd: 21:00 – 02:00\n• Gratis garderobe\n• Gratis parkeerplaatsen \n☆☆☆ LOCATIE ☆☆☆\nWensink Dance Masters\nMusschenbroekstraat 19\, 7316JD te Apeldoorn \n☆☆☆ TICKETS ☆☆☆\nOnline tickets verkrijgbaar via www.latinxplosion.nl\n• Early Bird ticket: €17\,50 (beperkte aantal beschikbaar)\n• Regular ticket: €21\,50\n• Late Bird / Door ticket: €25\,00 \nKoop Ticket Hier &#8212;> \n* Tickets verkoop start op 22-07-2024 en eindigt op 31-08-2024 om 20:00 uur.\nReeds gekochte tickets alleen retour bij annulering door de organisatie.
URL:https://djlatinpro.com/event/latin-x-plosion-live-edition/
LOCATION:Wensink Dance Masters\, Musschenbroekstraat 19\, Apeldoorn\, Gelderland\, 7316JD\, Netherlands
CATEGORIES:bachata,Band,Caribbean,Cuban,kizomba,Latin,live,lxp,Mambo,Party,salsa,Workshop
ATTACH;FMTTYPE=image/png:https://djlatinpro.com/wp-content/uploads/2024/07/Facebookbanner_LatinXplosion_Augustus.png
ORGANIZER;CN="DJ Latin Pro":MAILTO:info@djlatinpro.com
END:VEVENT
END:VCALENDAR