BEGIN:VCALENDAR
VERSION:2.0
PRODID:-//Djlatinpro - ECPv6.15.20//NONSGML v1.0//EN
CALSCALE:GREGORIAN
METHOD:PUBLISH
X-ORIGINAL-URL:https://djlatinpro.com
X-WR-CALDESC:Events for Djlatinpro
REFRESH-INTERVAL;VALUE=DURATION:PT1H
X-Robots-Tag:noindex
X-PUBLISHED-TTL:PT1H
BEGIN:VTIMEZONE
TZID:Europe/Amsterdam
BEGIN:DAYLIGHT
TZOFFSETFROM:+0100
TZOFFSETTO:+0200
TZNAME:CEST
DTSTART:20180325T010000
END:DAYLIGHT
BEGIN:STANDARD
TZOFFSETFROM:+0200
TZOFFSETTO:+0100
TZNAME:CET
DTSTART:20181028T010000
END:STANDARD
BEGIN:DAYLIGHT
TZOFFSETFROM:+0100
TZOFFSETTO:+0200
TZNAME:CEST
DTSTART:20190331T010000
END:DAYLIGHT
BEGIN:STANDARD
TZOFFSETFROM:+0200
TZOFFSETTO:+0100
TZNAME:CET
DTSTART:20191027T010000
END:STANDARD
BEGIN:DAYLIGHT
TZOFFSETFROM:+0100
TZOFFSETTO:+0200
TZNAME:CEST
DTSTART:20200329T010000
END:DAYLIGHT
BEGIN:STANDARD
TZOFFSETFROM:+0200
TZOFFSETTO:+0100
TZNAME:CET
DTSTART:20201025T010000
END:STANDARD
BEGIN:DAYLIGHT
TZOFFSETFROM:+0100
TZOFFSETTO:+0200
TZNAME:CEST
DTSTART:20210328T010000
END:DAYLIGHT
BEGIN:STANDARD
TZOFFSETFROM:+0200
TZOFFSETTO:+0100
TZNAME:CET
DTSTART:20211031T010000
END:STANDARD
END:VTIMEZONE
BEGIN:VEVENT
DTSTART;TZID=Europe/Amsterdam:20200101T010000
DTEND;TZID=Europe/Amsterdam:20200101T060000
DTSTAMP:20260425T173327
CREATED:20191130T000312Z
LAST-MODIFIED:20191231T173801Z
UID:77315-1577840400-1577858400@djlatinpro.com
SUMMARY:☆ NYE 2020 ☆ Two Dance Area's
DESCRIPTION:DJ Latin Pro presents\n☆☆☆☆☆NEW YEAR’S EVE 2020☆☆☆☆☆ \nOp woensdag 1 januari 2020 gaan we dansend het nieuw jaar in luiden tijdens NYE 2020\nMet twee danszalen special geselecteerd voor je eerste dansfeest van 2020. \nMet verschillende top dj&#8217;s achter de draaitafels\, krijg je gegarandeerd een geweldige dansavond in stijl! \n☆☆☆☆☆☆☆☆☆☆ ☆☆☆☆☆☆☆☆☆☆ \n☆☆☆ LINE-UP ☆☆☆\n\nCARIBBEAN AREA:\nMouse (Nijmegen)\, Lady Jay (Nijmegen) & Nokki (Arnhem) \nKIZOMBA AREA:\nJason (Nijmegen) & Latin Pro (Arnhem) \n☆☆☆☆☆☆☆☆☆☆ ☆☆☆☆☆☆☆☆☆☆ \n☆☆☆ TICKETS ☆☆☆ \n\nBeschikbaar via www.djlatinpro.com\n&#8211; Regular ticket €15\,00 (ex fee tot 18:00u op 31-12-19)\n&#8211; Door ticket €20\,00 &#8211; cash of pin\n\n☆☆☆ OPENINGSTIJDEN ☆☆☆\n01:00 &#8211; 06:00 uur \n☆☆☆ LOCATIE ☆☆☆\nAmanné\nTweede Walstraat 118\, 6511 LW Nijmegen \n☆☆☆ ALGEMENE INFO ☆☆☆\nDatum: Woensdag 1 januari 2020\nTijd: 01:00 &#8211; 06:00\n&#8211; Garderobe 1 euro per item\n&#8211; Beveiliging aanwezig
URL:https://djlatinpro.com/event/%e2%98%86-nye-2020-%e2%98%86-two-dance-areas/
LOCATION:Amanné\, Tweede walstraat 118\, Nijmegen\, 6511 LW\, Netherlands
CATEGORIES:bachata,Caribbean,Cuban,kizomba,Latin,Mambo,Party,salsa
ATTACH;FMTTYPE=image/png:https://djlatinpro.com/wp-content/uploads/2019/11/unnamed-1.png
ORGANIZER;CN="DJ Latin Pro":MAILTO:info@djlatinpro.com
END:VEVENT
BEGIN:VEVENT
DTSTART;TZID=Europe/Amsterdam:20191215T190000
DTEND;TZID=Europe/Amsterdam:20191216T000000
DTSTAMP:20260425T173327
CREATED:20191121T215733Z
LAST-MODIFIED:20191215T101301Z
UID:77298-1576436400-1576454400@djlatinpro.com
SUMMARY:☆ Latin-X-Plosion ☆ Citybeach Sunday's
DESCRIPTION:⛱LXP • CITYBEACH SUNDAY&#8217;S⛱ \nElke derde zondag van de maand keert Latin-X-Plosion terug naar SOAP • Apeldoorn voor een Stadsstrand Zondag Editie! \nTijdens deze dansavonden kan er gedanst worden op de heerlijkste en nieuwste latin en afro muziek! \nDJ’s:\nBICO (Dusseldorf\, DE)\nDIAKS (Deventer)\nLATIN PRO (Arnhem)\nJASON (Nijmegen) \nParty info:\nPlaats: SOAP\nAdres: Vlijtseweg 100\, 7317 AK Apeldoorn\nTijd: 19:00-00:00\nParty tickets: 5\,00 euro *online excl. fee\nDeur: €8\,00 \n#letsdance #seeyouonthedancefloor \n\n\n\n\n
URL:https://djlatinpro.com/event/%e2%98%86-latin-x-plosion-%e2%98%86-citybeach-sundays-xl/
LOCATION:Soap\, Vlijtseweg 100\, Apeldoorn\, Gelderland\, 7317 AK\, Netherlands
CATEGORIES:bachata,Caribbean,Cuban,kizomba,Latin,Mambo,Party,salsa
ATTACH;FMTTYPE=image/jpeg:https://djlatinpro.com/wp-content/uploads/2019/11/FB-Banner-Latin-Xplosion-SOAP-Apeldoorn-december.jpg
ORGANIZER;CN="DJ Latin Pro":MAILTO:info@djlatinpro.com
END:VEVENT
BEGIN:VEVENT
DTSTART;TZID=Europe/Amsterdam:20191117T190000
DTEND;TZID=Europe/Amsterdam:20191118T190000
DTSTAMP:20260425T173327
CREATED:20191104T194605Z
LAST-MODIFIED:20191104T194605Z
UID:77261-1574017200-1574103600@djlatinpro.com
SUMMARY:☆ Latin-X-Plosion ☆ Citybeach Sunday Edition
DESCRIPTION:⛱LXP • CITYBEACH SUNDAY EDITION⛱\n\n\n \n\n\nElke derde zondag van de maand keert Latin-X-Plosion terug naar SOAP • Apeldoorn voor een Stadsstrand Zondag Editie!\n\n\n \n\n\nTijdens deze dansavonden kan er gedanst worden op de heerlijkste en nieuwste latin en afro muziek!\n\n\n \n\n\nOm alvast in de stemming te komen starten we de avond met een Bachata workshop o.l.v. SalsaShakers.\n\n\n \n\n\nBachata workshop van: 19:15-20:15\n\n\n*Deelname aan de workshop vraagt om een vroege aanwezigheid.\n\n\n \n\n\nDJ’s:\n\n\n Virgil “ El Gigante “ (Rotterdam)\n\n\n Latin Pro (Arnhem)\n\n\n Jason (Nijmegen)\n\n\n \n\n\nPlaats: SOAP \n\n\nDanstijden: 19:00-00:00\n\n\nTickets: 5 euro *online excl. fee \n\n\nDeur: €8\,00\n\n\n \n\n\n#letsdance #seeyouonthedancefloor\n\n
URL:https://djlatinpro.com/event/%e2%98%86-latin-x-plosion-%e2%98%86-citybeach-sunday-edition-2/
LOCATION:Soap\, Vlijtseweg 100\, Apeldoorn\, Gelderland\, 7317 AK\, Netherlands
CATEGORIES:bachata,Caribbean,Cuban,kizomba,Latin,Mambo,Party,salsa
ATTACH;FMTTYPE=image/png:https://djlatinpro.com/wp-content/uploads/2019/11/unnamed.png
ORGANIZER;CN="DJ Latin Pro":MAILTO:info@djlatinpro.com
END:VEVENT
BEGIN:VEVENT
DTSTART;TZID=Europe/Amsterdam:20191103T190000
DTEND;TZID=Europe/Amsterdam:20191104T000000
DTSTAMP:20260425T173327
CREATED:20191010T101750Z
LAST-MODIFIED:20191103T143127Z
UID:77225-1572807600-1572825600@djlatinpro.com
SUMMARY:Latin-X-Plosion • Sunday Edition
DESCRIPTION:LXP • S☀️NDAY EDITION \nZondag 3 november komt Latin-X-Plosion naar FOCUS Filmtheater • Arnhem voor een Zondag Editie! \nTijdens deze dansavond kan er gedanst worden op de heerlijkste en nieuwste latin en afro muziek! \nOm alvast in de stemming te komen starten we de avond met een Salsa workshop o.l.v. Djé en Theena! \nSalsa workshop van: 19:15-20:15\n*Deelname aan de workshop vraagt om een vroege aanwezigheid. \n\nPlaats: FOCUS Filmtheater\nDanstijden: 19:00-00:00\n\n\nTickets: 7 euro *online excl. fee via link of www.djlatinpro.com\nDeur: €10\,00\n\n#letsdance #seeyouonthedancefloor
URL:https://djlatinpro.com/event/%e2%98%86-latin-x-plosion-%e2%98%86-sunday-edition/
LOCATION:Focus Filmtheater\, Audrey Hepburnplein 1\, Arnhem\, Gelderland\, 6811 EH\, Netherlands
CATEGORIES:bachata,Caribbean,Cuban,kizomba,Latin,Mambo,Party,salsa
ATTACH;FMTTYPE=image/png:https://djlatinpro.com/wp-content/uploads/2019/10/FB20Banner20Latin20Xplosion20VI.png
ORGANIZER;CN="DJ Latin Pro":MAILTO:info@djlatinpro.com
END:VEVENT
BEGIN:VEVENT
DTSTART;TZID=Europe/Amsterdam:20190922T190000
DTEND;TZID=Europe/Amsterdam:20190923T000000
DTSTAMP:20260425T173327
CREATED:20190901T114052Z
LAST-MODIFIED:20190901T114317Z
UID:1175-1569178800-1569196800@djlatinpro.com
SUMMARY:☆ Latin-X-Plosion ☆ Citybeach Sunday Edition
DESCRIPTION:⛱LXP • CITYBEACH SUNDAY EDITION⛱ \nZondag 22 september komt Latin-X-Plosion naar SOAP • Apeldoorn voor een Stadsstrand Zondag Editie! \nTijdens deze dansavond kan er gedanst worden op de heerlijkste en nieuwste latin en afro muziek! \nOm alvast in de stemming te komen starten we de avond met een Kizomba workshop! \nKizomba workshop van: 19:15-20:15\n*Deelname aan de workshop vraagt om een vroege aanwezigheid. \nPlaats: SOAP\nDanstijden: 19:00-00:00\nTickets: 5 euro (online) Deur: €7\,50 \n#letsdance #seeyouonthedancefloor
URL:https://djlatinpro.com/event/%e2%98%86-latin-x-plosion-%e2%98%86-citybeach-sunday-edition/
LOCATION:Soap\, Vlijtseweg 100\, Apeldoorn\, Gelderland\, 7317 AK\, Netherlands
CATEGORIES:bachata,Caribbean,Cuban,kizomba,Latin,Mambo,Party,salsa
ORGANIZER;CN="DJ Latin Pro":MAILTO:info@djlatinpro.com
END:VEVENT
BEGIN:VEVENT
DTSTART;TZID=Europe/Amsterdam:20190914T203000
DTEND;TZID=Europe/Amsterdam:20190915T030000
DTSTAMP:20260425T173327
CREATED:20190823T101732Z
LAST-MODIFIED:20190905T191431Z
UID:994-1568493000-1568516400@djlatinpro.com
SUMMARY:☆Latin-X-Plosion☆ 3 Dance Areas
DESCRIPTION:DJ Latin Pro presents\n\n\n☆☆☆☆☆LATIN-X-PLOSION☆☆☆☆☆\n\n\n \n\n\nOp zaterdag 14 sept 2019 vind de derde editie van LATIN-X-PLOSION plaats te Amanné\, Nijmegen\n\n\n \n\n\nLatin-X-plosion bestaat uit 3 dans-area’s speciaal geselecteerd voor de ultieme Latin experience: Salsa • Bachata • Kizomba.\n\n\nMet verschillende top dj&#8217;s achter de draaitafels\, krijg je gegarandeerd een geweldige dansavond in stijl!\n\n\n \n\n\nOm alvast in de juiste feest-stemming te komen starten we de avond met een aantal workshops\, die verzorgt worden door verschillende top dans-docenten uit de dans-wereld.\n\n\n \n\n\nLatin-X-plosion een feest om niet te missen!\n\n\n \n\n\n☆☆☆☆☆☆☆☆☆☆ ☆☆☆☆☆☆☆☆☆☆\n\n\n \n\n\n☆☆☆ WORKSHOPS☆☆☆\n\n\n \n\n\n20:30 &#8211; 21:45 | WS LA Salsa van Salsa Viva (Deventer)\n\n\n \n\n\n21:45 &#8211; 22:00 | WS Bachata Moderna van Michael & Melanie (Salsashakers\, Zutphen)\n\n\n \n\n\n*Deelname aan de workshops vraagt om een vroege aanwezigheid. Deuren open om 20:15 uur!\n\n\n \n\n\n☆☆☆ LINE-UP ☆☆☆\n\n\n \n\n\nSALSA AREA:\n\n\n DJ Bico (Dusseldorf\, DE) & DJ Louis (Den Bosch)\n\n\n \n\n\nBACHATA AREA: \n\n\nDJ Latin Pro (Arnhem)\, DJ Jango (Nijmegen) & DJ Joost (Arnhem)\n\n\n \n\n\nKIZOMBA AREA: \n\n\n DJ JS1 (Enschede) & DJ O.P.A. (Amsterdam)\n\n\nSupport by taxidancers: The Knights of Kizomba & The Specialists\n\n\n\n☆☆☆☆☆☆☆☆☆☆ ☆☆☆☆☆☆☆☆☆☆\n\n\n \n\n\n☆☆☆ TICKETS ☆☆☆\n\n\nBeschikbaar via link of www.djlatinpro.com\n\n\n&#8211; Online ticket: €11\,00 (ex fee) *vvk sluit op 14/9/19 om 18:00u\n\n\n&#8211; Deur ticket: €15\,00 (cash/pin)\n\n\n \n\n\n ☆☆☆ OPENINGSTIJDEN ☆☆☆ \n\n\n20:30u &#8211; 03:00u *Deuren open om 20:15 uur\n\n\n \n\n\n☆☆☆ LOCATIE ☆☆☆\n\n\nAmanne Salsa Dansschool\n\n\nTweede Walstraat 118\, 6511 LW Nijmegen\n\n\n \n\n\n☆☆☆ ALGEMENE INFO ☆☆☆\n\n\nDatum: Zaterdag 14 september 2019\n\n\nTijd: 20:15 &#8211; 03:00\n\n\n&#8211; Garderobe 1 euro per item\n\n\n&#8211; Fotograaf aanwezig\n\n\n&#8211; Beveiliging aanwezig\n\n\n \n\n\nVoor meer info www.djlatinpro.com l www.amanne.nl
URL:https://djlatinpro.com/event/latin-x-plosion/
LOCATION:Amanné\, Tweede walstraat 118\, Nijmegen\, 6511 LW\, Netherlands
CATEGORIES:bachata,Caribbean,Cuban,kizomba,Latin,Mambo,Party,salsa
ATTACH;FMTTYPE=image/png:https://djlatinpro.com/wp-content/uploads/2019/08/unnamed.png
ORGANIZER;CN="DJ Latin Pro":MAILTO:info@djlatinpro.com
END:VEVENT
END:VCALENDAR