BEGIN:VCALENDAR
VERSION:2.0
PRODID:-//Djlatinpro - ECPv6.15.20//NONSGML v1.0//EN
CALSCALE:GREGORIAN
METHOD:PUBLISH
X-WR-CALNAME:Djlatinpro
X-ORIGINAL-URL:https://djlatinpro.com
X-WR-CALDESC:Events for Djlatinpro
REFRESH-INTERVAL;VALUE=DURATION:PT1H
X-Robots-Tag:noindex
X-PUBLISHED-TTL:PT1H
BEGIN:VTIMEZONE
TZID:Europe/Amsterdam
BEGIN:DAYLIGHT
TZOFFSETFROM:+0100
TZOFFSETTO:+0200
TZNAME:CEST
DTSTART:20220327T010000
END:DAYLIGHT
BEGIN:STANDARD
TZOFFSETFROM:+0200
TZOFFSETTO:+0100
TZNAME:CET
DTSTART:20221030T010000
END:STANDARD
BEGIN:DAYLIGHT
TZOFFSETFROM:+0100
TZOFFSETTO:+0200
TZNAME:CEST
DTSTART:20230326T010000
END:DAYLIGHT
BEGIN:STANDARD
TZOFFSETFROM:+0200
TZOFFSETTO:+0100
TZNAME:CET
DTSTART:20231029T010000
END:STANDARD
BEGIN:DAYLIGHT
TZOFFSETFROM:+0100
TZOFFSETTO:+0200
TZNAME:CEST
DTSTART:20240331T010000
END:DAYLIGHT
BEGIN:STANDARD
TZOFFSETFROM:+0200
TZOFFSETTO:+0100
TZNAME:CET
DTSTART:20241027T010000
END:STANDARD
END:VTIMEZONE
BEGIN:VEVENT
DTSTART;TZID=Europe/Amsterdam:20230408T210000
DTEND;TZID=Europe/Amsterdam:20230409T030000
DTSTAMP:20260420T135630
CREATED:20230313T201945Z
LAST-MODIFIED:20230328T002342Z
UID:80233-1680987600-1681009200@djlatinpro.com
SUMMARY:BACHATA NIGHT
DESCRIPTION:*****BACHATA IS TAKING OVER*****\nOn Saturday 8 april 2023 \n♥️♥️♥️♥️♥️BACHATA NIGHT♥️♥️♥️♥️♥️ \n*WORKSHOP*\nBachata Dominican by Latin Touch \n*DEEJAYS*\nDJ Latin Pro & DJ Bripa \n*MUSIC*\n80% Bachata &#8211; 20% Latin/Afro mix \n*CATERING*\nSoulfood by Amanné \n*TICKETS*\nOnline tickets €10\,00 at www.djlatinpro.com till 20.00hr on 08-04-2023\nDoor Tickets: €13\,50 \n******************************************************************************** \n***PARTY INFO***\nPlace: Amanné | Tweede walstraat 118\, 6511LV Nijmegen\nTime for the workshop: 21:05h -22:00h\nTime to dance: 22:00h &#8211; 03:00h \n***EXTRA INFO***\n* Great location with awesome dancefloor\n* Free toilet access\n* Wardrobe €1\,00 each item\n* Payment cash or card \n \nFor more info visite www.bachatanight.nl &#8211; www.djlatinpro.com &#8211; www.amanne.nl
URL:https://djlatinpro.com/event/bachata-night-10/
LOCATION:Amanné\, Tweede walstraat 118\, Nijmegen\, 6511 LW\, Netherlands
CATEGORIES:bachata,Workshop
ATTACH;FMTTYPE=image/png:https://djlatinpro.com/wp-content/uploads/2023/03/Bachata-Night-080423-FB-banner.png
ORGANIZER;CN="DJ Latin Pro":MAILTO:info@djlatinpro.com
END:VEVENT
BEGIN:VEVENT
DTSTART;TZID=Europe/Amsterdam:20230422T200000
DTEND;TZID=Europe/Amsterdam:20230423T020000
DTSTAMP:20260420T135630
CREATED:20230327T104426Z
LAST-MODIFIED:20230417T194843Z
UID:80441-1682193600-1682215200@djlatinpro.com
SUMMARY:☆LATIN-X-PLOSION☆ 2 Area's || Salsa & Bachata // Kizomba
DESCRIPTION:DJ Latin Pro presents \n☆☆☆☆☆LATIN-X-PLOSION☆☆☆☆☆ \nOp zaterdag 22 April 2023 vind  LATIN-X-PLOSION plaats te Wensink in Apeldoorn. \nLatin-X-plosion bestaat uit 2 dans-area’s speciaal geselecteerd voor de ultieme Latin & Afro experience.\nMet verschillende top dj’s achter de draaitafels\, krijg je gegarandeerd een geweldige dansavond in stijl!\nOm alvast in de juiste feest-stemming te komen starten we de avond met een workshop\,\ndie verzorgt worden door verschillende top dans-docenten uit de dans-wereld.\nLatin-X-plosion een feest om niet te missen!\n\n☆☆☆☆☆☆☆☆☆☆ ☆☆☆☆☆☆☆☆☆☆\n\n☆☆☆ WORKSHOPS☆☆☆\n21:05- 22:00 | Master Class Salsa o.l.v. Brian Libier (Salsaddiction)\n*Deelname aan de workshops vraagt om een vroege aanwezigheid. Deuren open om 20:30 uur!\n\n☆☆☆ SHOW☆☆☆ \n00:00- 00:05 | Showtime: Descarga Ladystyling Showteam \n☆☆☆ LINE-UP ☆☆☆ \nSALSA & BACHATA AREA:\nDJ Virgil (Rotterdam)\, DJ Latin Pro (Arnhem) & DJ Tinta (Amsterdam) \nKIZOMBA AREA:\nDJ  JS1 (Enschede) & DJ Jack (Eindhoven) \n\n☆☆☆ PICTURES☆☆☆\nFotograaf Victor Reinier legt al je mooiste dansmomenten vast.\n\n☆☆☆☆☆☆☆☆☆☆ ☆☆☆☆☆☆☆☆☆☆\n\n☆☆☆ ALGEMENE INFO ☆☆☆\nDatum: Zaterdag 22 april 2023\nTijd: 21:00 – 02:00\n• Gratis garderobe\n• Gratis parkeerplaatsen\n\n☆☆☆ LOCATIE ☆☆☆\nWensink Dance Masters\nMusschenbroekstraat 19\, 7316JD te Apeldoorn\n\n☆☆☆ TICKETS ☆☆☆\nOnline tickets:\n•Early bird ticket: €10\,00 (beperkt aantal tickets beschikbaar)\n• Regular ticket: €12\,50\n• Door ticket: €15\,00 – (cash of pin)\n\nTickets verkoop start op 27-03-2023 en eindigt op 22-04-2023 om 20:00 uur
URL:https://djlatinpro.com/event/220423/
LOCATION:Wensink Dance Masters\, Musschenbroekstraat 19\, Apeldoorn\, Gelderland\, 7316JD\, Netherlands
CATEGORIES:bachata,Caribbean,Cuban,kizomba,Latin,Mambo,Party,salsa,Workshop
ATTACH;FMTTYPE=image/png:https://djlatinpro.com/wp-content/uploads/2023/03/Facebookbanner_LatinXplosion_22april.png
ORGANIZER;CN="DJ Latin Pro":MAILTO:info@djlatinpro.com
END:VEVENT
BEGIN:VEVENT
DTSTART;TZID=Europe/Amsterdam:20230426T220000
DTEND;TZID=Europe/Amsterdam:20230427T030000
DTSTAMP:20260420T135630
CREATED:20230403T193300Z
LAST-MODIFIED:20230426T171710Z
UID:80511-1682546400-1682564400@djlatinpro.com
SUMMARY:KINGS NIGHT
DESCRIPTION:Woensdag 26 April 2023 \nKINGS NIGHT \nHet is zo ver KINGS & QUEENS&#8230;&#8230;.we gaan Koningsnacht vieren!!!!!!! \nMet natuurlijk een zeer vrolijk en feestelijk dresscode: &#8216;ORANJE&#8217;. \nProgramma:\n22:05 &#8211; 23:00: Workshop Urban Kizz\nGegeven door Top dansdocenten &#8221; Charles & Epifania &#8221; van I&#8217;m Your Kizomba Teacher. \n22:00 &#8211; 03:00:\nLatin Area: Salsa\, Bachata\, Merengue\, Ritmo Kombina & More\n• DJ Allen o.a. bekent van La Parranda en The Joy\n• DJ Latin Pro \nKizomba Area: Kizomba\, Urban Kizz\, Kompa & More\n• 22:05 &#8211; 23:00 Workshop Urban Kizz\n• 23:00 &#8211; 3:00 DJ Dairyon \nCatering:\nSoulfood verzorgd door Amannné \nTickets:\n• V.v.k. ticket 10 euro verkrijgbaar via www.djlatinpro.com\n• Deurticket €12\,50 \n******************************************************************************** \nAlgemene info:\n• Datum: 26-04-2022\n• Tijd: 22:00-03:00\n• Plaats: Amanné I Tweede Walstraat 118\, 6511LV Nijmegen\n• Garderobe: €1\,00 p.e.\n• Pin of contant \n********************************************************************************
URL:https://djlatinpro.com/event/kings-night/
LOCATION:Amanné\, Tweede walstraat 118\, Nijmegen\, 6511 LW\, Netherlands
CATEGORIES:bachata,Caribbean,Cuban,kizomba,Latin,Mambo,Party,salsa,Workshop
ATTACH;FMTTYPE=image/png:https://djlatinpro.com/wp-content/uploads/2023/04/Facebookbanner_KN_26april.png
ORGANIZER;CN="DJ Latin Pro":MAILTO:info@djlatinpro.com
END:VEVENT
END:VCALENDAR