BEGIN:VCALENDAR
VERSION:2.0
PRODID:-//Djlatinpro - ECPv6.15.20//NONSGML v1.0//EN
CALSCALE:GREGORIAN
METHOD:PUBLISH
X-WR-CALNAME:Djlatinpro
X-ORIGINAL-URL:https://djlatinpro.com
X-WR-CALDESC:Events for Djlatinpro
REFRESH-INTERVAL;VALUE=DURATION:PT1H
X-Robots-Tag:noindex
X-PUBLISHED-TTL:PT1H
BEGIN:VTIMEZONE
TZID:Europe/Amsterdam
BEGIN:DAYLIGHT
TZOFFSETFROM:+0100
TZOFFSETTO:+0200
TZNAME:CEST
DTSTART:20230326T010000
END:DAYLIGHT
BEGIN:STANDARD
TZOFFSETFROM:+0200
TZOFFSETTO:+0100
TZNAME:CET
DTSTART:20231029T010000
END:STANDARD
BEGIN:DAYLIGHT
TZOFFSETFROM:+0100
TZOFFSETTO:+0200
TZNAME:CEST
DTSTART:20240331T010000
END:DAYLIGHT
BEGIN:STANDARD
TZOFFSETFROM:+0200
TZOFFSETTO:+0100
TZNAME:CET
DTSTART:20241027T010000
END:STANDARD
BEGIN:DAYLIGHT
TZOFFSETFROM:+0100
TZOFFSETTO:+0200
TZNAME:CEST
DTSTART:20250330T010000
END:DAYLIGHT
BEGIN:STANDARD
TZOFFSETFROM:+0200
TZOFFSETTO:+0100
TZNAME:CET
DTSTART:20251026T010000
END:STANDARD
END:VTIMEZONE
BEGIN:VEVENT
DTSTART;TZID=Europe/Amsterdam:20240121T200000
DTEND;TZID=Europe/Amsterdam:20240122T000000
DTSTAMP:20260419T224208
CREATED:20240106T175357Z
LAST-MODIFIED:20240107T195620Z
UID:82244-1705867200-1705881600@djlatinpro.com
SUMMARY:Salsa Huissen Social - Workshop Sunday
DESCRIPTION:#SHS Salsa Huissen Social &#8211; Workshop Sunday\n\nOp zondag 21 januari 2024 is het tijd voor een gezellige eerste editie van Salsa Huissen Social.\nWe starten de avond met een workshop Bachata o.l.v. Enseña Bachata uit Den Haag.\nDaarna kan er heerlijk gedanst worden op Salsa\, Bachata en Kizomba muziek van DJ Latin Pro.\nHet gaat héél gezellig worden!!!\n\n20:00 &#8211; 21:00\nWorkshop Bachata Dominican o.l.v. Enseña Bachata.\n\n21:00 &#8211; 00:00\n#SHS &#8211; Heerlijk met de voetjes van de vloer op de klanken van DJ Latin Pro.\n\n\n&#8211; INFO &#8211;\nDatum: Zondag 21 januari 2024\nTime: 20:00 &#8211; 00:00\nLocation: Hof(f) der Muziek HANS\nAdres: Julianastraat 50A\, 6851 KL Huissen\nOnline tickets: €5\,00 via www.djlatinpro.com\n\nDeur tickets; €7\,50 (cash of pin) \n\n\n#SHS is mede mogelijk gemaakt door:\n• Natural Scissors (Huissen) • Karly&#8217;s Kaarsen (Huissen) • DJ Latin Pro (Huissen)\n• Gemstone by Han (Bemmel) • Spoil Me (Duiven) • Nice Stuff (Zevenaar) • Pasa-a-Paso (Apeldoorn)
URL:https://djlatinpro.com/event/salsa-huissen-social-workshop-sunday/
LOCATION:Hof(f) der Muziek HANS\, Julianastraat 50A\, Huissen\, Gelderland\, 6851KL\, Netherlands
CATEGORIES:bachata,Caribbean,Cuban,kizomba,Latin,Mambo,Party,salsa,Workshop
ORGANIZER;CN="DJ Latin Pro":MAILTO:info@djlatinpro.com
END:VEVENT
BEGIN:VEVENT
DTSTART;TZID=Europe/Amsterdam:20240127T210000
DTEND;TZID=Europe/Amsterdam:20240128T020000
DTSTAMP:20260419T224208
CREATED:20240104T223428Z
LAST-MODIFIED:20240111T221007Z
UID:82211-1706389200-1706407200@djlatinpro.com
SUMMARY:☆LATIN-X-PLOSION☆ 2 Area's || Salsa & Bachata // Kizomba
DESCRIPTION:DJ Latin Pro presents\n☆☆☆☆☆LATIN-X-PLOSION☆☆☆☆☆ \nOp zaterdag 27 januari 2024 vind LATIN-X-PLOSION plaats te Wensink in Apeldoorn.\nLatin-X-plosion bestaat uit 2 dans-area’s speciaal geselecteerd voor de ultieme Latin & Afro experience. \nMet verschillende top dj’s achter de draaitafels\, krijg je gegarandeerd een geweldige dansavond in stijl! \nOm alvast in de juiste feest-stemming te komen starten we de avond met een workshop\,\ndie verzorgt worden door verschillende top dans-docenten uit de dans-wereld.\nLatin-X-plosion een feest om niet te missen! \n☆☆☆☆☆☆☆☆☆☆ ☆☆☆☆☆☆☆☆☆☆ \n☆☆☆ WORKSHOPS☆☆☆\n21:05 &#8211; 22:00 | Bachata Sensual lead by Radio & Froukje\n*Deelname aan de workshops vraagt om een vroege aanwezigheid.\nDeuren open om 21:00 uur! \n☆☆☆ LINE-UP ☆☆☆\nSALSA & BACHATA AREA:\nDJ Latin Pro (Arnhem) & DJ Latin Master (Amersfoort) \nKIZOMBA AREA:\nDJ Ellen (Eindhoven) & DJ O.P.A (Amsterdam) \n☆☆☆ PICTURES☆☆☆\nFotograaf Victor Reinier legt al je mooiste dansmomenten vast. \n☆☆☆☆☆☆☆☆☆☆ ☆☆☆☆☆☆☆☆☆☆ \n☆☆☆ ALGEMENE INFO ☆☆☆\nDatum: Zaterdag 27 januari 2024\nTijd: 21:00 &#8211; 02:00\n• Gratis garderobe\n• Gratis parkeerplaatsen \n☆☆☆ LOCATIE ☆☆☆\nWensink Dance Masters\nMusschenbroekstraat 19\, 7316JD te Apeldoorn \n☆☆☆ TICKETS ☆☆☆\nOnline tickets:\n•Early bird ticket: €10\,00 (beperkt aantal tickets beschikbaar)\n• Regular ticket: €12\,50\nTickets zijn beschikbaar via www.latinxplosion.nl en www.djlatinpro.com\n• Door ticket: €15\,00 – (cash of pin) \nTickets verkoop start op 4 januari en eindigt op 27 janauri om 20:00 uur
URL:https://djlatinpro.com/event/latinxplosionjan2024/
LOCATION:Wensink Dance Masters\, Musschenbroekstraat 19\, Apeldoorn\, Gelderland\, 7316JD\, Netherlands
CATEGORIES:bachata,Caribbean,Cuban,kizomba,Latin,Mambo,Party,salsa,Workshop
ATTACH;FMTTYPE=image/png:https://djlatinpro.com/wp-content/uploads/2024/01/Facebookbanner_LatinXplosion_27jan2024.png
ORGANIZER;CN="DJ Latin Pro":MAILTO:info@djlatinpro.com
END:VEVENT
END:VCALENDAR