BEGIN:VCALENDAR
VERSION:2.0
PRODID:-//Djlatinpro - ECPv6.15.20//NONSGML v1.0//EN
CALSCALE:GREGORIAN
METHOD:PUBLISH
X-WR-CALNAME:Djlatinpro
X-ORIGINAL-URL:https://djlatinpro.com
X-WR-CALDESC:Events for Djlatinpro
REFRESH-INTERVAL;VALUE=DURATION:PT1H
X-Robots-Tag:noindex
X-PUBLISHED-TTL:PT1H
BEGIN:VTIMEZONE
TZID:Europe/Amsterdam
BEGIN:DAYLIGHT
TZOFFSETFROM:+0100
TZOFFSETTO:+0200
TZNAME:CEST
DTSTART:20230326T010000
END:DAYLIGHT
BEGIN:STANDARD
TZOFFSETFROM:+0200
TZOFFSETTO:+0100
TZNAME:CET
DTSTART:20231029T010000
END:STANDARD
BEGIN:DAYLIGHT
TZOFFSETFROM:+0100
TZOFFSETTO:+0200
TZNAME:CEST
DTSTART:20240331T010000
END:DAYLIGHT
BEGIN:STANDARD
TZOFFSETFROM:+0200
TZOFFSETTO:+0100
TZNAME:CET
DTSTART:20241027T010000
END:STANDARD
BEGIN:DAYLIGHT
TZOFFSETFROM:+0100
TZOFFSETTO:+0200
TZNAME:CEST
DTSTART:20250330T010000
END:DAYLIGHT
BEGIN:STANDARD
TZOFFSETFROM:+0200
TZOFFSETTO:+0100
TZNAME:CET
DTSTART:20251026T010000
END:STANDARD
END:VTIMEZONE
BEGIN:VEVENT
DTSTART;TZID=Europe/Amsterdam:20240218T200000
DTEND;TZID=Europe/Amsterdam:20240219T000000
DTSTAMP:20260419T211053
CREATED:20240205T191541Z
LAST-MODIFIED:20240218T175520Z
UID:82518-1708286400-1708300800@djlatinpro.com
SUMMARY:Salsa Huissen Social - Workshop Sunday
DESCRIPTION:#SHS Salsa Huissen Social – Workshop Sunday \nOp zondag 18 februari 2024 is het tijd voor een gezellige tweede editie van Salsa Huissen Social.\nWe starten de avond met een workshop Bachata o.l.v. Enseña Bachata uit Den Haag. \nDaarna kan er heerlijk gedanst worden op Salsa\, Bachata en Kizomba muziek van DJ Latin Pro.\nHet gaat héél gezellig worden!!! \n20:00 &#8211; 21:00\nWorkshop Bachata Dominican o.l.v. Enseña Bachata.\n21:00 &#8211; 00:00\n#SHS &#8211; Heerlijk met de voetjes van de vloer op de klanken van DJ Latin Pro. \n&#8211; INFO &#8211;\nDatum: Zondag 18 februari 2024\nTime: 20:00 – 00:00\nLocation: Hof(f) der Muziek HANS\nAdres: Julianastraat 50A\, 6851 KL Huissen\nOnline tickets: €5\,00 via www.djlatinpro.com\nDeur tickets; €7\,50 (cash of pin) \n#SHS is mede mogelijk gemaakt door:\n• Natural Scissors (Huissen) • Karly’s Kaarsen (Huissen) • DJ Latin Pro (Huissen)\n• Gemstone by Han (Bemmel) • Spoil Me (Duiven) • Nice Stuff (Zevenaar) • Pasa-a-Paso (Apeldoorn)
URL:https://djlatinpro.com/event/shs18022024/
LOCATION:Hof(f) der Muziek HANS\, Julianastraat 50A\, Huissen\, Gelderland\, 6851KL\, Netherlands
CATEGORIES:bachata,kizomba,Latin,Mambo,Party,salsa,Workshop
ATTACH;FMTTYPE=image/png:https://djlatinpro.com/wp-content/uploads/2024/02/Facebookbanner_SHS_18feb.png
ORGANIZER;CN="DJ Latin Pro":MAILTO:info@djlatinpro.com
END:VEVENT
BEGIN:VEVENT
DTSTART;TZID=Europe/Amsterdam:20240224T210000
DTEND;TZID=Europe/Amsterdam:20240225T020000
DTSTAMP:20260419T211053
CREATED:20240129T001600Z
LAST-MODIFIED:20240220T104631Z
UID:82471-1708808400-1708826400@djlatinpro.com
SUMMARY:☆LATIN-X-PLOSION☆ 2 Area's || Salsa & Bachata // Kizomba
DESCRIPTION:DJ Latin Pro presents\n☆☆☆☆☆LATIN-X-PLOSION☆☆☆☆☆ \nOp zaterdag 24 februari 2024 vind LATIN-X-PLOSION plaats te Wensink in Apeldoorn.\nLatin-X-plosion bestaat uit 2 dans-area’s speciaal geselecteerd voor de ultieme Latin & Afro experience. \nMet verschillende top dj’s achter de draaitafels\, krijg je gegarandeerd een geweldige dansavond in stijl! \nOm alvast in de juiste feeststemming te komen starten we de avond met een workshop\,\ndie verzorgt worden door verschillende top dans-docenten uit de danswereld.\nLatin-X-plosion een feest om niet te missen! \n☆☆☆☆☆☆☆☆☆☆ ☆☆☆☆☆☆☆☆☆☆ \n☆☆☆ WORKSHOPS☆☆☆\n21:05 &#8211; 22:00 |Urban Kizz o.l.v. Wanita & Mo\n*Deelname aan de workshops vraagt om een vroege aanwezigheid.\nDeuren open om 21:00 uur! \n☆☆☆ LINE-UP ☆☆☆\nSALSA & BACHATA AREA:\nDJ Latin Pro (Arnhem)\, DJ Louis (Den Bosch) & DJ Virgil (Rotterdam) \nKIZOMBA AREA:\nDJ Jack (Eindhoven) & DJ Ryze (Den Haag) \n☆☆☆ PICTURES☆☆☆\nFotograaf Victor Reinier legt al je mooiste dansmomenten vast. \n☆☆☆☆☆☆☆☆☆☆ ☆☆☆☆☆☆☆☆☆☆ \n☆☆☆ ALGEMENE INFO ☆☆☆\nDatum: Zaterdag 24 februari 2024\nTijd: 21:00 &#8211; 02:00\n• Gratis garderobe\n• Gratis parkeerplaatsen \n☆☆☆ LOCATIE ☆☆☆\nWensink Dance Masters\nMusschenbroekstraat 19\, 7316JD te Apeldoorn \n☆☆☆ TICKETS ☆☆☆\nOnline tickets: www.djlatinpro.com/event/februari2024/\n•Early bird ticket: €10\,00 (beperkt aantal tickets beschikbaar)\n• Regular ticket: €12\,50\nTickets zijn beschikbaar via www.latinxplosion.nl en www.djlatinpro.com\n• Door ticket: €15\,00 – (cash of pin) \nTickets verkoop start op 29 januari en eindigt op 24 februari om 20:00 uur
URL:https://djlatinpro.com/event/februari2024/
LOCATION:Wensink Dance Masters\, Musschenbroekstraat 19\, Apeldoorn\, Gelderland\, 7316JD\, Netherlands
CATEGORIES:bachata,Caribbean,Cuban,kizomba,Latin,lxp,Mambo,Party,salsa,Workshop
ATTACH;FMTTYPE=image/png:https://djlatinpro.com/wp-content/uploads/2024/01/Facebookbanner_LatinXplosion_februari2024.png
ORGANIZER;CN="DJ Latin Pro":MAILTO:info@djlatinpro.com
END:VEVENT
END:VCALENDAR