BEGIN:VCALENDAR
VERSION:2.0
PRODID:-//Djlatinpro - ECPv6.15.20//NONSGML v1.0//EN
CALSCALE:GREGORIAN
METHOD:PUBLISH
X-WR-CALNAME:Djlatinpro
X-ORIGINAL-URL:https://djlatinpro.com
X-WR-CALDESC:Events for Djlatinpro
REFRESH-INTERVAL;VALUE=DURATION:PT1H
X-Robots-Tag:noindex
X-PUBLISHED-TTL:PT1H
BEGIN:VTIMEZONE
TZID:Europe/Amsterdam
BEGIN:DAYLIGHT
TZOFFSETFROM:+0100
TZOFFSETTO:+0200
TZNAME:CEST
DTSTART:20220327T010000
END:DAYLIGHT
BEGIN:STANDARD
TZOFFSETFROM:+0200
TZOFFSETTO:+0100
TZNAME:CET
DTSTART:20221030T010000
END:STANDARD
BEGIN:DAYLIGHT
TZOFFSETFROM:+0100
TZOFFSETTO:+0200
TZNAME:CEST
DTSTART:20230326T010000
END:DAYLIGHT
BEGIN:STANDARD
TZOFFSETFROM:+0200
TZOFFSETTO:+0100
TZNAME:CET
DTSTART:20231029T010000
END:STANDARD
BEGIN:DAYLIGHT
TZOFFSETFROM:+0100
TZOFFSETTO:+0200
TZNAME:CEST
DTSTART:20240331T010000
END:DAYLIGHT
BEGIN:STANDARD
TZOFFSETFROM:+0200
TZOFFSETTO:+0100
TZNAME:CET
DTSTART:20241027T010000
END:STANDARD
END:VTIMEZONE
BEGIN:VEVENT
DTSTART;TZID=Europe/Amsterdam:20230211T200000
DTEND;TZID=Europe/Amsterdam:20230212T010000
DTSTAMP:20260420T193112
CREATED:20230123T141337Z
LAST-MODIFIED:20230211T193520Z
UID:79913-1676145600-1676163600@djlatinpro.com
SUMMARY:BACHATA NIGHT • Lovely Red Edition
DESCRIPTION:*****BACHATA IS TAKING OVER*****\nOn Saturday 11 February 2023 \n♥️♥️♥️BACHATA NIGHT♥️♥️♥️ Lovely Red Edition \n*WORKSHOP*\nMerengue by Marisa Enseña Bachata \n*DEEJAYS*\nDJ Latin Pro & DJ Limbo Latino \n*MUSIC*\n80% Bachata &#8211; 20% Latin/Afro mix \n*CATERING*\nSoulfood by Amanné \n*TICKETS*\nOnline tickets €10\,00 at www.djlatinpro.com\nDoor Tickets: €13\,50 \n******************************************************************************** \n***PARTY INFO***\nPlace: Amanné | Tweede walstraat 118\, 6511LV Nijmegen\nTime for the workshop: 20:05h -20:55h\nTime to dance: 20:00h &#8211; 01:00h \n***EXTRA INFO***\n* Great location with awesome dancefloor\n* Free toilet access\n* Wardrobe €1\,00 each item\n* Payment cash or card \n \nFor more info visite www.bachatanight.nl &#8211; www.djlatinpro.com &#8211; www.amanne.nl
URL:https://djlatinpro.com/event/bachata-night-lovely-red-edition/
LOCATION:Amanné\, Tweede walstraat 118\, Nijmegen\, 6511 LW\, Netherlands
CATEGORIES:bachata,Latin,Party,Workshop
ATTACH;FMTTYPE=image/jpeg:https://djlatinpro.com/wp-content/uploads/2023/01/Bachata-Night-230211-FB-banner-scaled.jpg
ORGANIZER;CN="DJ Latin Pro":MAILTO:info@djlatinpro.com
END:VEVENT
END:VCALENDAR