BEGIN:VCALENDAR
VERSION:2.0
PRODID:-//Djlatinpro - ECPv6.15.20//NONSGML v1.0//EN
CALSCALE:GREGORIAN
METHOD:PUBLISH
X-ORIGINAL-URL:https://djlatinpro.com
X-WR-CALDESC:Events for Djlatinpro
REFRESH-INTERVAL;VALUE=DURATION:PT1H
X-Robots-Tag:noindex
X-PUBLISHED-TTL:PT1H
BEGIN:VTIMEZONE
TZID:Europe/Amsterdam
BEGIN:DAYLIGHT
TZOFFSETFROM:+0100
TZOFFSETTO:+0200
TZNAME:CEST
DTSTART:20220327T010000
END:DAYLIGHT
BEGIN:STANDARD
TZOFFSETFROM:+0200
TZOFFSETTO:+0100
TZNAME:CET
DTSTART:20221030T010000
END:STANDARD
BEGIN:DAYLIGHT
TZOFFSETFROM:+0100
TZOFFSETTO:+0200
TZNAME:CEST
DTSTART:20230326T010000
END:DAYLIGHT
BEGIN:STANDARD
TZOFFSETFROM:+0200
TZOFFSETTO:+0100
TZNAME:CET
DTSTART:20231029T010000
END:STANDARD
BEGIN:DAYLIGHT
TZOFFSETFROM:+0100
TZOFFSETTO:+0200
TZNAME:CEST
DTSTART:20240331T010000
END:DAYLIGHT
BEGIN:STANDARD
TZOFFSETFROM:+0200
TZOFFSETTO:+0100
TZNAME:CET
DTSTART:20241027T010000
END:STANDARD
END:VTIMEZONE
BEGIN:VEVENT
DTSTART;TZID=Europe/Amsterdam:20230325T210000
DTEND;TZID=Europe/Amsterdam:20230326T030000
DTSTAMP:20260420T173000
CREATED:20230227T125358Z
LAST-MODIFIED:20230327T231116Z
UID:80165-1679778000-1679799600@djlatinpro.com
SUMMARY:☆LATIN-X-PLOSION☆ 2 Area's • Deventer Edition
DESCRIPTION:DJ Latin Pro presents\n☆☆☆☆☆LATIN-X-PLOSION☆☆☆☆☆\n\nOp zaterdag 25 maart 2023 vind LATIN-X-PLOSION plaats te De Zalen van Deventer\, Deventer\nLatin-X-plosion bestaat uit 2 dans-area’s speciaal geselecteerd voor de ultieme Latin & Afro experience.\nMet verschillende top dj’s achter de draaitafels\, krijg je gegarandeerd een geweldige dansavond in stijl!\nOm alvast in de juiste feest-stemming te komen starten we de avond met een workshop\,\ndie verzorgt worden door verschillende top dans-docenten uit de dans-wereld.\nLatin-X-plosion een feest om niet te missen!\n\n☆☆☆☆☆☆☆☆☆☆ ☆☆☆☆☆☆☆☆☆☆\n\n☆☆☆ WORKSHOP☆☆☆\n21:00- 22:00 | Bachata Romantica o.l.v. SalsaShakers\n*Deelname aan de workshops vraagt om een vroege aanwezigheid. Deuren open om 20:55 uur!\n\n☆☆☆ LINE-UP ☆☆☆\nSALSA & BACHATA AREA:\nDJ Passion Latina (Breda)\, DJ Virgil (Rotterdam) & DJ Latin Pro (Arnhem)\n\nKIZOMBA AREA:\nDJ O.P.A. (Amsterdam) & DJ Bico (Düsseldorf\, Duitsland)\n\n☆☆☆ PICTURES☆☆☆\nFotograaf Victor Reinier legt al je mooiste dansmomenten vast.\n\n☆☆☆☆☆☆☆☆☆☆ ☆☆☆☆☆☆☆☆☆☆\n\n☆☆☆ ALGEMENE INFO ☆☆☆\nDatum: Zaterdag 25 maart 2023\nTijd: 21:00 &#8211; 02:00\n• Gratis garderobe\n• Parkeren: parkeergarage Brink\, Emmastraat 7411\, 7411BL Deventer\nParkeer tarieven:\n19.00 &#8211; 22.00 uur: €1\,00 p.u\n22.00 &#8211; 07.00 uur: €0\,50 p.u.\n\n☆☆☆ LOCATIE ☆☆☆\nDe Zalen van Deventer\nPolstraat 20-22\, 7411KB te Deventer\n• Stijlvol en elegante zalen voorzien van airco en professionele zwevende houten dansvloeren\n• Genoeg zit- en staanplaatsen.\n• Schitterende lounge.\n\n☆☆☆ TICKETS ☆☆☆\nOnline tickets www.latinxplosion.nl\n•Early bird ticket: €10\,00 (beperkt aantal tickets beschikbaar)\n• Regular ticket: €12\,50\n• Door ticket: €15\,00 – (cash of pin)\n\nTickets verkoop start op 26 februari 2023 en eindigt op 25 maart 2023 om 20:00 uur
URL:https://djlatinpro.com/event/latin-x-plosiondeventeredition/
LOCATION:De Zalen van Deventer\, Polstraat 20-22\, Deventer\, Overijssel\, 7411KB\, Netherlands
CATEGORIES:bachata,Caribbean,Cuban,kizomba,Latin,Mambo,Party,salsa,Workshop
ATTACH;FMTTYPE=image/png:https://djlatinpro.com/wp-content/uploads/2023/03/Facebookbanner_LatinXplosion_25maart.png
ORGANIZER;CN="DJ Latin Pro":MAILTO:info@djlatinpro.com
END:VEVENT
END:VCALENDAR