BEGIN:VCALENDAR
VERSION:2.0
PRODID:-//Djlatinpro - ECPv6.15.20//NONSGML v1.0//EN
CALSCALE:GREGORIAN
METHOD:PUBLISH
X-WR-CALNAME:Djlatinpro
X-ORIGINAL-URL:https://djlatinpro.com
X-WR-CALDESC:Events for Djlatinpro
REFRESH-INTERVAL;VALUE=DURATION:PT1H
X-Robots-Tag:noindex
X-PUBLISHED-TTL:PT1H
BEGIN:VTIMEZONE
TZID:Europe/Amsterdam
BEGIN:DAYLIGHT
TZOFFSETFROM:+0100
TZOFFSETTO:+0200
TZNAME:CEST
DTSTART:20220327T010000
END:DAYLIGHT
BEGIN:STANDARD
TZOFFSETFROM:+0200
TZOFFSETTO:+0100
TZNAME:CET
DTSTART:20221030T010000
END:STANDARD
BEGIN:DAYLIGHT
TZOFFSETFROM:+0100
TZOFFSETTO:+0200
TZNAME:CEST
DTSTART:20230326T010000
END:DAYLIGHT
BEGIN:STANDARD
TZOFFSETFROM:+0200
TZOFFSETTO:+0100
TZNAME:CET
DTSTART:20231029T010000
END:STANDARD
BEGIN:DAYLIGHT
TZOFFSETFROM:+0100
TZOFFSETTO:+0200
TZNAME:CEST
DTSTART:20240331T010000
END:DAYLIGHT
BEGIN:STANDARD
TZOFFSETFROM:+0200
TZOFFSETTO:+0100
TZNAME:CET
DTSTART:20241027T010000
END:STANDARD
END:VTIMEZONE
BEGIN:VEVENT
DTSTART;TZID=Europe/Amsterdam:20230422T200000
DTEND;TZID=Europe/Amsterdam:20230423T020000
DTSTAMP:20260420T153102
CREATED:20230327T104426Z
LAST-MODIFIED:20230417T194843Z
UID:80441-1682193600-1682215200@djlatinpro.com
SUMMARY:☆LATIN-X-PLOSION☆ 2 Area's || Salsa & Bachata // Kizomba
DESCRIPTION:DJ Latin Pro presents \n☆☆☆☆☆LATIN-X-PLOSION☆☆☆☆☆ \nOp zaterdag 22 April 2023 vind  LATIN-X-PLOSION plaats te Wensink in Apeldoorn. \nLatin-X-plosion bestaat uit 2 dans-area’s speciaal geselecteerd voor de ultieme Latin & Afro experience.\nMet verschillende top dj’s achter de draaitafels\, krijg je gegarandeerd een geweldige dansavond in stijl!\nOm alvast in de juiste feest-stemming te komen starten we de avond met een workshop\,\ndie verzorgt worden door verschillende top dans-docenten uit de dans-wereld.\nLatin-X-plosion een feest om niet te missen!\n\n☆☆☆☆☆☆☆☆☆☆ ☆☆☆☆☆☆☆☆☆☆\n\n☆☆☆ WORKSHOPS☆☆☆\n21:05- 22:00 | Master Class Salsa o.l.v. Brian Libier (Salsaddiction)\n*Deelname aan de workshops vraagt om een vroege aanwezigheid. Deuren open om 20:30 uur!\n\n☆☆☆ SHOW☆☆☆ \n00:00- 00:05 | Showtime: Descarga Ladystyling Showteam \n☆☆☆ LINE-UP ☆☆☆ \nSALSA & BACHATA AREA:\nDJ Virgil (Rotterdam)\, DJ Latin Pro (Arnhem) & DJ Tinta (Amsterdam) \nKIZOMBA AREA:\nDJ  JS1 (Enschede) & DJ Jack (Eindhoven) \n\n☆☆☆ PICTURES☆☆☆\nFotograaf Victor Reinier legt al je mooiste dansmomenten vast.\n\n☆☆☆☆☆☆☆☆☆☆ ☆☆☆☆☆☆☆☆☆☆\n\n☆☆☆ ALGEMENE INFO ☆☆☆\nDatum: Zaterdag 22 april 2023\nTijd: 21:00 – 02:00\n• Gratis garderobe\n• Gratis parkeerplaatsen\n\n☆☆☆ LOCATIE ☆☆☆\nWensink Dance Masters\nMusschenbroekstraat 19\, 7316JD te Apeldoorn\n\n☆☆☆ TICKETS ☆☆☆\nOnline tickets:\n•Early bird ticket: €10\,00 (beperkt aantal tickets beschikbaar)\n• Regular ticket: €12\,50\n• Door ticket: €15\,00 – (cash of pin)\n\nTickets verkoop start op 27-03-2023 en eindigt op 22-04-2023 om 20:00 uur
URL:https://djlatinpro.com/event/220423/
LOCATION:Wensink Dance Masters\, Musschenbroekstraat 19\, Apeldoorn\, Gelderland\, 7316JD\, Netherlands
CATEGORIES:bachata,Caribbean,Cuban,kizomba,Latin,Mambo,Party,salsa,Workshop
ATTACH;FMTTYPE=image/png:https://djlatinpro.com/wp-content/uploads/2023/03/Facebookbanner_LatinXplosion_22april.png
ORGANIZER;CN="DJ Latin Pro":MAILTO:info@djlatinpro.com
END:VEVENT
END:VCALENDAR