BEGIN:VCALENDAR
VERSION:2.0
PRODID:-//Djlatinpro - ECPv6.15.20//NONSGML v1.0//EN
CALSCALE:GREGORIAN
METHOD:PUBLISH
X-WR-CALNAME:Djlatinpro
X-ORIGINAL-URL:https://djlatinpro.com
X-WR-CALDESC:Events for Djlatinpro
REFRESH-INTERVAL;VALUE=DURATION:PT1H
X-Robots-Tag:noindex
X-PUBLISHED-TTL:PT1H
BEGIN:VTIMEZONE
TZID:Europe/Amsterdam
BEGIN:DAYLIGHT
TZOFFSETFROM:+0100
TZOFFSETTO:+0200
TZNAME:CEST
DTSTART:20220327T010000
END:DAYLIGHT
BEGIN:STANDARD
TZOFFSETFROM:+0200
TZOFFSETTO:+0100
TZNAME:CET
DTSTART:20221030T010000
END:STANDARD
BEGIN:DAYLIGHT
TZOFFSETFROM:+0100
TZOFFSETTO:+0200
TZNAME:CEST
DTSTART:20230326T010000
END:DAYLIGHT
BEGIN:STANDARD
TZOFFSETFROM:+0200
TZOFFSETTO:+0100
TZNAME:CET
DTSTART:20231029T010000
END:STANDARD
BEGIN:DAYLIGHT
TZOFFSETFROM:+0100
TZOFFSETTO:+0200
TZNAME:CEST
DTSTART:20240331T010000
END:DAYLIGHT
BEGIN:STANDARD
TZOFFSETFROM:+0200
TZOFFSETTO:+0100
TZNAME:CET
DTSTART:20241027T010000
END:STANDARD
END:VTIMEZONE
BEGIN:VEVENT
DTSTART;TZID=Europe/Amsterdam:20230610T210000
DTEND;TZID=Europe/Amsterdam:20230611T030000
DTSTAMP:20260420T120356
CREATED:20230523T232850Z
LAST-MODIFIED:20230525T092345Z
UID:80818-1686430800-1686452400@djlatinpro.com
SUMMARY:La Formula - 2 dance area's
DESCRIPTION:DJ latin Pro presents on Saturday 10th of June 2023 \n*****LA FORMULA***** 2 dance area&#8217;s    \nWorkshop:\n21:00-22:00 | Bachata Sensual by Sakis & Marta\n* Participation requires early attendance \nSalsa & Bachata Area:\n•DJ Latin Pro\n•DJ Joost \nKizomba Area:\n• DJ Dairyon\n• DJ Dude \n•••••••••••••••••••••••••••••••••••••••• \nTickets:\n• Early Bird Ticket: 10 euro (limited tickets available)\n• Regular Ticket: 12\,50 euro\nPresale tickets at www.djlatinpro.com\n• Door Ticket: 15 euro \n*There are no refunds for this event unless the event is cancelled by us! \n•••••••••••••••••••••••••••••••••••••••• \nInformation:\n• Date: Saturday 10-06-2023\n• Time: 21:00hr &#8211; 03:00hr\n• Doors open at 20:50hr\n• Place: Amanné\, Tweede Walstraat 118 • 6511 LW\, Nijmegen \n•••••••••••••••••••••••••••••••••••••••• \nExtra info:\n* Great location with awesome dancefloor\n* Free toilet access\n* Airco system\n* Wardrobe €1\,00 each item\n* Payment cash or card \nwww.amanne.nl • www.djlatinpro.com
URL:https://djlatinpro.com/event/la-formula/
LOCATION:Amanné\, Tweede walstraat 118\, Nijmegen\, 6511 LW\, Netherlands
CATEGORIES:bachata,kizomba,Party,salsa,Workshop
ATTACH;FMTTYPE=image/jpeg:https://djlatinpro.com/wp-content/uploads/2023/05/A3poster_LaFormula.jpg
ORGANIZER;CN="DJ Latin Pro":MAILTO:info@djlatinpro.com
END:VEVENT
END:VCALENDAR