BEGIN:VCALENDAR
VERSION:2.0
PRODID:-//Djlatinpro - ECPv6.15.20//NONSGML v1.0//EN
CALSCALE:GREGORIAN
METHOD:PUBLISH
X-ORIGINAL-URL:https://djlatinpro.com
X-WR-CALDESC:Events for Djlatinpro
REFRESH-INTERVAL;VALUE=DURATION:PT1H
X-Robots-Tag:noindex
X-PUBLISHED-TTL:PT1H
BEGIN:VTIMEZONE
TZID:Europe/Amsterdam
BEGIN:DAYLIGHT
TZOFFSETFROM:+0100
TZOFFSETTO:+0200
TZNAME:CEST
DTSTART:20220327T010000
END:DAYLIGHT
BEGIN:STANDARD
TZOFFSETFROM:+0200
TZOFFSETTO:+0100
TZNAME:CET
DTSTART:20221030T010000
END:STANDARD
BEGIN:DAYLIGHT
TZOFFSETFROM:+0100
TZOFFSETTO:+0200
TZNAME:CEST
DTSTART:20230326T010000
END:DAYLIGHT
BEGIN:STANDARD
TZOFFSETFROM:+0200
TZOFFSETTO:+0100
TZNAME:CET
DTSTART:20231029T010000
END:STANDARD
BEGIN:DAYLIGHT
TZOFFSETFROM:+0100
TZOFFSETTO:+0200
TZNAME:CEST
DTSTART:20240331T010000
END:DAYLIGHT
BEGIN:STANDARD
TZOFFSETFROM:+0200
TZOFFSETTO:+0100
TZNAME:CET
DTSTART:20241027T010000
END:STANDARD
END:VTIMEZONE
BEGIN:VEVENT
DTSTART;TZID=Europe/Amsterdam:20231125T210000
DTEND;TZID=Europe/Amsterdam:20231126T020000
DTSTAMP:20260420T033403
CREATED:20231031T215840Z
LAST-MODIFIED:20231113T155741Z
UID:81729-1700946000-1700964000@djlatinpro.com
SUMMARY:☆LATIN-X-PLOSION☆ 2 Area's || Salsa & Bachata // Kizomba
DESCRIPTION:DJ Latin Pro presents\n☆☆☆☆☆LATIN-X-PLOSION☆☆☆☆☆ \nOp zaterdag 25 november 2023 vind LATIN-X-PLOSION plaats te Wensink in Apeldoorn.\nLatin-X-plosion bestaat uit 2 dans-area’s speciaal geselecteerd voor de ultieme Latin & Afro experience. \nMet verschillende top dj’s achter de draaitafels\, krijg je gegarandeerd een geweldige dansavond in stijl! \nOm alvast in de juiste feest-stemming te komen starten we de avond met een workshop\,\ndie verzorgt worden door verschillende top dans-docenten uit de dans-wereld.\nLatin-X-plosion een feest om niet te missen! \n☆☆☆☆☆☆☆☆☆☆ ☆☆☆☆☆☆☆☆☆☆ \n☆☆☆ WORKSHOPS☆☆☆\n21:05 &#8211; 22:00 | Bachata Romantica lead by SalsaShakers\n*Deelname aan de workshops vraagt om een vroege aanwezigheid.\nDeuren open om 21:00 uur! \n☆☆☆ LINE-UP ☆☆☆\nSALSA & BACHATA AREA:\nDJ Latin Pro (Arnhem)\, DJ Louis (Den Bosch) & DJ Bico (Düsseldorf\, DE) \nKIZOMBA AREA:\nDJ JS1 (Enschede) & DJ O.P.A (Amsterdam) \n☆☆☆ PICTURES☆☆☆\nFotograaf Victor Reinier legt al je mooiste dansmomenten vast. \n☆☆☆☆☆☆☆☆☆☆ ☆☆☆☆☆☆☆☆☆☆ \n☆☆☆ ALGEMENE INFO ☆☆☆\nDatum: Zaterdag 25 november 2023\nTijd: 21:00 &#8211; 02:00\n• Gratis garderobe\n• Gratis parkeerplaatsen \n☆☆☆ LOCATIE ☆☆☆\nWensink Dance Masters\nMusschenbroekstraat 19\, 7316JD te Apeldoorn \n☆☆☆ TICKETS ☆☆☆\nOnline tickets:\n•Early bird ticket: €10\,00 (beperkt aantal tickets beschikbaar)\n• Regular ticket: €12\,50\nTickets zijn beschikbaar via www.latinxplosion.nl en www.djlatinpro.com\n• Door ticket: €15\,00 – (cash of pin) \nTickets verkoop start op 1 november en eindigt op 25 november om 20:00 uur
URL:https://djlatinpro.com/event/lxp112023/
LOCATION:Wensink Dance Masters\, Musschenbroekstraat 19\, Apeldoorn\, Gelderland\, 7316JD\, Netherlands
CATEGORIES:bachata,Caribbean,Cuban,kizomba,Latin,Mambo,Party,salsa,Workshop
ATTACH;FMTTYPE=image/png:https://djlatinpro.com/wp-content/uploads/2023/10/Facebookbanner_LatinXplosion_25november.png
ORGANIZER;CN="DJ Latin Pro":MAILTO:info@djlatinpro.com
END:VEVENT
END:VCALENDAR