BEGIN:VCALENDAR
VERSION:2.0
PRODID:-//Djlatinpro - ECPv6.15.20//NONSGML v1.0//EN
CALSCALE:GREGORIAN
METHOD:PUBLISH
X-WR-CALNAME:Djlatinpro
X-ORIGINAL-URL:https://djlatinpro.com
X-WR-CALDESC:Events for Djlatinpro
REFRESH-INTERVAL;VALUE=DURATION:PT1H
X-Robots-Tag:noindex
X-PUBLISHED-TTL:PT1H
BEGIN:VTIMEZONE
TZID:Europe/Amsterdam
BEGIN:DAYLIGHT
TZOFFSETFROM:+0100
TZOFFSETTO:+0200
TZNAME:CEST
DTSTART:20250330T010000
END:DAYLIGHT
BEGIN:STANDARD
TZOFFSETFROM:+0200
TZOFFSETTO:+0100
TZNAME:CET
DTSTART:20251026T010000
END:STANDARD
BEGIN:DAYLIGHT
TZOFFSETFROM:+0100
TZOFFSETTO:+0200
TZNAME:CEST
DTSTART:20260329T010000
END:DAYLIGHT
BEGIN:STANDARD
TZOFFSETFROM:+0200
TZOFFSETTO:+0100
TZNAME:CET
DTSTART:20261025T010000
END:STANDARD
BEGIN:DAYLIGHT
TZOFFSETFROM:+0100
TZOFFSETTO:+0200
TZNAME:CEST
DTSTART:20270328T010000
END:DAYLIGHT
BEGIN:STANDARD
TZOFFSETFROM:+0200
TZOFFSETTO:+0100
TZNAME:CET
DTSTART:20271031T010000
END:STANDARD
END:VTIMEZONE
BEGIN:VEVENT
DTSTART;TZID=Europe/Amsterdam:20260508T200000
DTEND;TZID=Europe/Amsterdam:20260509T020000
DTSTAMP:20260423T003604
CREATED:20260414T092423Z
LAST-MODIFIED:20260414T092423Z
UID:89751-1778270400-1778292000@djlatinpro.com
SUMMARY:All Friday's Party @ Amanne • Nijmegen
DESCRIPTION:
URL:https://djlatinpro.com/event/all-fridays-party-amanne-nijmegen-13/
LOCATION:Gelderland
CATEGORIES:Booking
END:VEVENT
BEGIN:VEVENT
DTSTART;TZID=Europe/Amsterdam:20260523T210000
DTEND;TZID=Europe/Amsterdam:20260524T020000
DTSTAMP:20260423T003604
CREATED:20260413T234414Z
LAST-MODIFIED:20260417T013236Z
UID:89718-1779570000-1779588000@djlatinpro.com
SUMMARY:☆LATIN-X-PLOSION☆ 2 Area's || Salsa & Bachata // Kizomba
DESCRIPTION:Koop Ticket Hier &#8212;> \n\n\nDJ Latin Pro presents\n☆☆☆LATIN-X-PLOSION☆☆☆ 2 Dance Area&#8217;s \nOp zaterdag 23 mei 2026 vind LATIN-X-PLOSION plaats te Wensink in Apeldoorn. \nLatin-X-Plosion bestaat uit 2 dans-area’s speciaal geselecteerd voor de ultieme Latin & Afro experience.\nMet verschillende top dj’s achter de draaitafels\, krijg je gegarandeerd een spetterende dansavond in stijl! \nOm alvast in de juiste feeststemming te komen starten we de avond met een workshop\,\ndie verzorgt worden door top dans-docenten uit de danswereld. \n☆☆☆☆☆☆☆☆☆☆ ☆☆☆☆☆☆☆☆☆☆ \n☆☆☆WORKSHOP☆☆☆\n21:00- 21:55 |  Master Class Salsa o.l.v. Brian Libier (Salsaddiction)\n*Deelname aan de workshops vraagt om een vroege aanwezigheid. Deuren open om 20:50 uur! \n☆☆☆ SALSA & BACHATA AREA☆☆☆\nDJ Virgil (Rotterdam)\nDJ Andre (Utrecht) \n☆☆☆ KIZOMBS AREA☆☆☆\nDJ Asile (Rotterdam)\nDJ Afrosom (Zwolle) \n☆☆☆PICTURES & CLIPSHOT☆☆☆\nFotograaf Victor Reinier legt al je mooiste dansmomenten vast. \n☆☆☆☆☆☆☆☆☆☆ ☆☆☆☆☆☆☆☆☆☆ \n☆☆☆ ALGEMENE INFO ☆☆☆\nDatum: Zaterdag 23-05-2026\nTijd: 21:00 – 02:00\n• Gratis garderobe\n• Gratis parkeerplaatsen \n☆☆☆ LOCATIE ☆☆☆\nWensink Dance Masters\nMusschenbroekstraat 19\, 7316JD te Apeldoorn \n☆☆☆ TICKETS ☆☆☆\nOnline tickets verkrijgbaar via www.latinxplosion.nl\n• Early Bird ticket: €12\,50 (beperkt aantal tickets beschikbaar)\n• Regular ticket: €15\,00\n• Door ticket: €17\,50 (cash of pin) \nKoop Ticket Hier &#8212;> \n* Tickets verkoop start op 26-04-2026 en eindigt op 23-05-2026 om 20:00 uur.\nReeds gekochte tickets alleen retour bij annulering door de organisatie.
URL:https://djlatinpro.com/event/latinxplosionmay2026/
LOCATION:Wensink Dance Masters\, Musschenbroekstraat 19\, Apeldoorn\, Gelderland\, 7316JD\, Netherlands
CATEGORIES:bachata,Caribbean,Cuban,kizomba,Latin,lxp,Mambo,Party,salsa,Workshop
ATTACH;FMTTYPE=image/jpeg:https://djlatinpro.com/wp-content/uploads/2026/04/Banner-LXP-mei-juni-1-scaled.jpg
END:VEVENT
BEGIN:VEVENT
DTSTART;TZID=Europe/Amsterdam:20260529T180000
DTEND;TZID=Europe/Amsterdam:20260529T233000
DTSTAMP:20260423T003604
CREATED:20260120T191843Z
LAST-MODIFIED:20260414T092253Z
UID:88555-1780077600-1780097400@djlatinpro.com
SUMMARY:Wedding @ Arnhem
DESCRIPTION:
URL:https://djlatinpro.com/event/wedding-arnhem-2/
LOCATION:Gelderland
CATEGORIES:Booking
END:VEVENT
BEGIN:VEVENT
DTSTART;TZID=Europe/Amsterdam:20260530T200000
DTEND;TZID=Europe/Amsterdam:20260531T020000
DTSTAMP:20260423T003604
CREATED:20260120T192235Z
LAST-MODIFIED:20260120T192235Z
UID:88559-1780171200-1780192800@djlatinpro.com
SUMMARY:Salsa L.A. Social Nights @ De Kentering\, Rosmalen
DESCRIPTION:
URL:https://djlatinpro.com/event/salsa-l-a-social-nights-de-kentering-rosmalen/
LOCATION:Gelderland
CATEGORIES:Booking
END:VEVENT
BEGIN:VEVENT
DTSTART;TZID=Europe/Amsterdam:20260606T200000
DTEND;TZID=Europe/Amsterdam:20260607T010000
DTSTAMP:20260423T003604
CREATED:20260414T000247Z
LAST-MODIFIED:20260414T095644Z
UID:89720-1780776000-1780794000@djlatinpro.com
SUMMARY:LATIN-X-PLOSION • Festival Edition
DESCRIPTION:Koop Ticket Hier &#8212;> \n\n\nDJ Latin Pro presents\n☆☆☆LATIN-X-PLOSION☆☆☆ 2 Dance Area&#8217;s \nOp zaterdag 6 juni 2026 vind LATIN-X-PLOSION • Festival Edition plaats te Theaterkerk Bemmel in Bemmel. \nLatin-X-Plosion bestaat uit 2 dans-area’s speciaal geselecteerd voor de ultieme Latin & Afro experience.\nMet verschillende top dj’s achter de draaitafels\, krijg je gegarandeerd een spetterende dansavond in stijl! \nOm alvast in de juiste feeststemming te komen starten we de avond met een workshops\,\ndie verzorgt worden door top dans-docenten uit de danswereld. \n☆☆☆☆☆☆☆☆☆☆ ☆☆☆☆☆☆☆☆☆☆ \n☆☆☆WORKSHOPS☆☆☆\n20:00- 20:55 |  Master Class Salsa o.l.v. Salsaddiction\n*Deelname aan de workshops vraagt om een vroege aanwezigheid. Deuren open om 19:50 uur! \n20:00- 20:55 |  Urban Kiz o.l.v. The Kizz Effect\n*Deelname aan de workshops vraagt om een vroege aanwezigheid. Deuren open om 19:50 uur! \n☆☆☆ SALSA & BACHATA AREA☆☆☆\nDJ Latin Pro (Arnhem)\nDJ Joost (Arnhem)\nDJ Yuchi (Nijmegen) \n☆☆☆ KIZOMBS AREA☆☆☆\nDJ Dude (Haarlem)\nDJ O.P.A (Amsterdam) \n☆☆☆PICTURES & CLIPSHOT☆☆☆\nFotograaf Victor Reinier legt al je mooiste dansmomenten vast. \n☆☆☆☆☆☆☆☆☆☆ ☆☆☆☆☆☆☆☆☆☆ \n☆☆☆ ALGEMENE INFO ☆☆☆\nDatum: Zaterdag 06-06-2026\nTijd: 20:00 – 01:00\n• Gratis garderobe\n• Gratis parkeerplaatsen \n☆☆☆ LOCATIE ☆☆☆\nTheaterkerk Bemmel\nMarkt 5\, 6681AE te Bemmel \n☆☆☆ TICKETS ☆☆☆\nOnline tickets verkrijgbaar via www.latinxplosion.nl\n• Early Bird ticket: €12\,50 (beperkt aantal tickets beschikbaar)• Regular ticket: €15\,00• Late Bird ticket: €17\,50 (vanaf 1 juni)• Door tickets: €20\,00 (cash or pin) \nKoop Ticket Hier &#8212;> \n* Tickets verkoop start op 14-04-2026 en eindigt op 06-06-2026 om 19:00 uur.\nReeds gekochte tickets alleen retour bij annulering door de organisatie.
URL:https://djlatinpro.com/event/latinxplosionfestivaledition/
LOCATION:Theaterkerk Bemmel\, Markt 5\, Bemmel\, Gelderland\, 6681AE\, Netherlands
CATEGORIES:bachata,Cuban,kizomba,Latin,lxp,Mambo,Party,salsa,Workshop
ATTACH;FMTTYPE=image/jpeg:https://djlatinpro.com/wp-content/uploads/2026/04/3-scaled.jpg
ORGANIZER;CN="DJ Latin Pro":MAILTO:info@djlatinpro.com
END:VEVENT
BEGIN:VEVENT
DTSTART;TZID=Europe/Amsterdam:20260613T210000
DTEND;TZID=Europe/Amsterdam:20260614T010000
DTSTAMP:20260423T003604
CREATED:20260115T175520Z
LAST-MODIFIED:20260115T175520Z
UID:88452-1781384400-1781398800@djlatinpro.com
SUMMARY:Salsa Cubana @ Amanne\, Nijmegen
DESCRIPTION:
URL:https://djlatinpro.com/event/salsa-cubana-amanne-nijmegen-2/
LOCATION:Gelderland
CATEGORIES:Booking
END:VEVENT
BEGIN:VEVENT
DTSTART;TZID=Europe/Amsterdam:20260704T210000
DTEND;TZID=Europe/Amsterdam:20260705T010000
DTSTAMP:20260423T003604
CREATED:20260115T180102Z
LAST-MODIFIED:20260115T180102Z
UID:88458-1783198800-1783213200@djlatinpro.com
SUMMARY:Jerry's Latin Party @ 't Holland\, Duiven
DESCRIPTION:
URL:https://djlatinpro.com/event/jerrys-latin-party-t-holland-duiven-3/
LOCATION:Gelderland
CATEGORIES:Booking
END:VEVENT
BEGIN:VEVENT
DTSTART;TZID=Europe/Amsterdam:20260725T200000
DTEND;TZID=Europe/Amsterdam:20260726T020000
DTSTAMP:20260423T003604
CREATED:20260120T192332Z
LAST-MODIFIED:20260120T192439Z
UID:88561-1785009600-1785031200@djlatinpro.com
SUMMARY:Salsa L.A. Social Nights @ De Kentering\, Rosmalen
DESCRIPTION:
URL:https://djlatinpro.com/event/salsa-l-a-social-nights-de-kentering-rosmalen-2/
LOCATION:Gelderland
CATEGORIES:Booking
END:VEVENT
BEGIN:VEVENT
DTSTART;TZID=Europe/Amsterdam:20260801T130000
DTEND;TZID=Europe/Amsterdam:20260801T230000
DTSTAMP:20260423T003604
CREATED:20260127T232207Z
LAST-MODIFIED:20260414T014032Z
UID:88464-1785589200-1785625200@djlatinpro.com
SUMMARY:☆LATIN-X-PLOSION FESTIVAL☆
DESCRIPTION:️ ️ Scoor je ticket → \n\n\n\n\n\n\nDJ Latin Pro presentsLATIN-X-PLOSION FESTIVALDe ultieme Latin & Afro experience \nZaterdag 1 augustus 2026Kasteel Doornenburg – Doornenburg⏰ 13:00 – 23:00 uur \nDe allereerste editie van Latin-X-Plosion Festival! \nVoel de zon op je huid\, hoor de ritmes in je hart en laat je meeslepen door de energie van Latin-X-Plosion Festival.Een gloednieuw festival waar dans\, muziek en zomerse vibes samenkomen op de betoverende locatie van Kasteel Doornenburg. \nDans van middag tot middernacht op 3 unieke dansvloeren:• Salsa – sensueel\, energiek en vol passie• Bachata – romantisch\, smooth en meeslepend• Kizomba – diep\, ritmisch en verslavend \nElke dansvloer heeft zijn eigen sfeer\, DJ’s en energie. Jij kiest waar je hart je brengt. \n✨ Waarom je dit niet wilt missen:• Top DJ’s met de heetste Latin & Afro beats• Workshops van topdocenten – voor beginners én gevorderden• Caribische smaken en heerlijke snacks• Gezellige kraampjes vol lifestyle\, dans & cultuur• Zomerse festivalvibes in een unieke\, historische setting \nℹ️ Praktische infoPre-order tickets: t/m 28 februari  [gesloten]• Early Bird: Start 1 maart (beperkt beschikbaar) – op = op!• Lazy Bird: t/m 1 april• Regular Ticket en Group Ticket (4p): t/m 1 juli• Late Bird en Late Group (4p): t/m 31 juli \n️️ Scoor je ticket nu → \nBereikbaarheid: carpoolen wordt aangeraden – beperkte parkeergelegenheid♿ Toegankelijkheid: het festival is grotendeels rolstoelvriendelijk &#8211; 18+ \nMis deze première niet!Kom met vrienden en familie en beleef een festival dat je zomer laat exploderen van energie\, muziek en dans. \nMeer info & tickets: www.latinxplosion.nl \nLatin-X-Plosion Festival – jouw zomer. Jouw ritme. Jouw feest. \n#LatinXplosion #FirstEdition #LatinFestival #AfroVibes #Zomer2026 #SummerVibes #DanceTillMidnight
URL:https://djlatinpro.com/event/latinxplosionfestival/
LOCATION:Kasteel Doornenburg\, Kerkstraat 27\, Doornenburg\, Gelderland\, 6686BS\, Netherlands
ATTACH;FMTTYPE=image/jpeg:https://djlatinpro.com/wp-content/uploads/2026/01/LXP-Festival-Facebook-omslagfoto-scaled.jpg
ORGANIZER;CN="DJ Latin Pro":MAILTO:info@djlatinpro.com
END:VEVENT
BEGIN:VEVENT
DTSTART;TZID=Europe/Amsterdam:20260905T210000
DTEND;TZID=Europe/Amsterdam:20260906T010000
DTSTAMP:20260423T003604
CREATED:20260115T180149Z
LAST-MODIFIED:20260115T180149Z
UID:88460-1788642000-1788656400@djlatinpro.com
SUMMARY:Jerry's Latin Party @ 't Holland\, Duiven
DESCRIPTION:
URL:https://djlatinpro.com/event/jerrys-latin-party-t-holland-duiven-4/
LOCATION:Gelderland
CATEGORIES:Booking
END:VEVENT
BEGIN:VEVENT
DTSTART;TZID=Europe/Amsterdam:20260925T180000
DTEND;TZID=Europe/Amsterdam:20260925T233000
DTSTAMP:20260423T003604
CREATED:20260120T191931Z
LAST-MODIFIED:20260120T191931Z
UID:88557-1790359200-1790379000@djlatinpro.com
SUMMARY:Wedding @ Arnhem
DESCRIPTION:
URL:https://djlatinpro.com/event/wedding-arnhem-3/
LOCATION:Gelderland
CATEGORIES:Booking
END:VEVENT
BEGIN:VEVENT
DTSTART;TZID=Europe/Amsterdam:20261107T210000
DTEND;TZID=Europe/Amsterdam:20261108T010000
DTSTAMP:20260423T003604
CREATED:20260115T180257Z
LAST-MODIFIED:20260115T180257Z
UID:88462-1794085200-1794099600@djlatinpro.com
SUMMARY:Jerry's Latin Party @ 't Holland\, Duiven
DESCRIPTION:
URL:https://djlatinpro.com/event/jerrys-latin-party-t-holland-duiven-5/
LOCATION:Gelderland
CATEGORIES:Booking
END:VEVENT
END:VCALENDAR