BEGIN:VCALENDAR
VERSION:2.0
PRODID:-//Djlatinpro - ECPv6.15.20//NONSGML v1.0//EN
CALSCALE:GREGORIAN
METHOD:PUBLISH
X-ORIGINAL-URL:https://djlatinpro.com
X-WR-CALDESC:Events for Djlatinpro
REFRESH-INTERVAL;VALUE=DURATION:PT1H
X-Robots-Tag:noindex
X-PUBLISHED-TTL:PT1H
BEGIN:VTIMEZONE
TZID:Europe/Amsterdam
BEGIN:DAYLIGHT
TZOFFSETFROM:+0100
TZOFFSETTO:+0200
TZNAME:CEST
DTSTART:20250330T010000
END:DAYLIGHT
BEGIN:STANDARD
TZOFFSETFROM:+0200
TZOFFSETTO:+0100
TZNAME:CET
DTSTART:20251026T010000
END:STANDARD
BEGIN:DAYLIGHT
TZOFFSETFROM:+0100
TZOFFSETTO:+0200
TZNAME:CEST
DTSTART:20260329T010000
END:DAYLIGHT
BEGIN:STANDARD
TZOFFSETFROM:+0200
TZOFFSETTO:+0100
TZNAME:CET
DTSTART:20261025T010000
END:STANDARD
BEGIN:DAYLIGHT
TZOFFSETFROM:+0100
TZOFFSETTO:+0200
TZNAME:CEST
DTSTART:20270328T010000
END:DAYLIGHT
BEGIN:STANDARD
TZOFFSETFROM:+0200
TZOFFSETTO:+0100
TZNAME:CET
DTSTART:20271031T010000
END:STANDARD
END:VTIMEZONE
BEGIN:VEVENT
DTSTART;TZID=Europe/Amsterdam:20261107T210000
DTEND;TZID=Europe/Amsterdam:20261108T010000
DTSTAMP:20260423T005814
CREATED:20260115T180257Z
LAST-MODIFIED:20260115T180257Z
UID:88462-1794085200-1794099600@djlatinpro.com
SUMMARY:Jerry's Latin Party @ 't Holland\, Duiven
DESCRIPTION:
URL:https://djlatinpro.com/event/jerrys-latin-party-t-holland-duiven-5/
LOCATION:Gelderland
CATEGORIES:Booking
END:VEVENT
END:VCALENDAR