BEGIN:VCALENDAR
VERSION:2.0
PRODID:-//Djlatinpro - ECPv6.15.20//NONSGML v1.0//EN
CALSCALE:GREGORIAN
METHOD:PUBLISH
X-WR-CALNAME:Djlatinpro
X-ORIGINAL-URL:https://djlatinpro.com
X-WR-CALDESC:Events for Djlatinpro
REFRESH-INTERVAL;VALUE=DURATION:PT1H
X-Robots-Tag:noindex
X-PUBLISHED-TTL:PT1H
BEGIN:VTIMEZONE
TZID:Europe/Amsterdam
BEGIN:DAYLIGHT
TZOFFSETFROM:+0100
TZOFFSETTO:+0200
TZNAME:CEST
DTSTART:20240331T010000
END:DAYLIGHT
BEGIN:STANDARD
TZOFFSETFROM:+0200
TZOFFSETTO:+0100
TZNAME:CET
DTSTART:20241027T010000
END:STANDARD
BEGIN:DAYLIGHT
TZOFFSETFROM:+0100
TZOFFSETTO:+0200
TZNAME:CEST
DTSTART:20250330T010000
END:DAYLIGHT
BEGIN:STANDARD
TZOFFSETFROM:+0200
TZOFFSETTO:+0100
TZNAME:CET
DTSTART:20251026T010000
END:STANDARD
BEGIN:DAYLIGHT
TZOFFSETFROM:+0100
TZOFFSETTO:+0200
TZNAME:CEST
DTSTART:20260329T010000
END:DAYLIGHT
BEGIN:STANDARD
TZOFFSETFROM:+0200
TZOFFSETTO:+0100
TZNAME:CET
DTSTART:20261025T010000
END:STANDARD
END:VTIMEZONE
BEGIN:VEVENT
DTSTART;TZID=Europe/Amsterdam:20250503T193000
DTEND;TZID=Europe/Amsterdam:20250503T193000
DTSTAMP:20260422T235428
CREATED:20250425T103630Z
LAST-MODIFIED:20250425T103724Z
UID:86289-1746300600-1746300600@djlatinpro.com
SUMMARY:Latin Friday (Zaterdag editie) @ Bierfabriek\, Almere
DESCRIPTION:
URL:https://djlatinpro.com/event/latin-friday-zaterdag-editie-bierfabriek-almere/
CATEGORIES:Booking
END:VEVENT
BEGIN:VEVENT
DTSTART;TZID=Europe/Amsterdam:20250509T200000
DTEND;TZID=Europe/Amsterdam:20250510T000000
DTSTAMP:20260422T235428
CREATED:20250425T103923Z
LAST-MODIFIED:20250425T103923Z
UID:86291-1746820800-1746835200@djlatinpro.com
SUMMARY:Latin Vibes @ Zuyder\, Almere
DESCRIPTION:
URL:https://djlatinpro.com/event/latin-vibes-zuyder-almere/
CATEGORIES:Booking
END:VEVENT
BEGIN:VEVENT
DTSTART;TZID=Europe/Amsterdam:20250510T200000
DTEND;TZID=Europe/Amsterdam:20250511T010000
DTSTAMP:20260422T235428
CREATED:20250326T211333Z
LAST-MODIFIED:20250422T172212Z
UID:85980-1746907200-1746925200@djlatinpro.com
SUMMARY:LATIN-X-PLOSION • Arnhem Edition
DESCRIPTION:Koop Ticket Hier &#8212;> \n\nDJ Latin Pro presents☆☆☆LATIN-X-PLOSION☆☆☆ Arnhem Edition\nOp zaterdag 10 mei 2025 vind LATIN-X-PLOSION plaats te Yasalsa in Arnhem.\nLatin-X-Plosion bestaat uit 1 dans-area voor de ultieme Latin & Afro experience.Met verschillende top dj’s achter de draaitafels\, krijg je gegarandeerd een spetterende dansavond in stijl!\nOm alvast in de juiste feeststemming te komen starten we de avond met een workshop\,die verzorgt worden door verschillende top dans-docenten uit de danswereld.Latin-X-plosion een feest om niet te missen!\n\n☆☆☆☆☆☆☆☆☆☆ ☆☆☆☆☆☆☆☆☆☆\n\n☆☆☆WORKSHOP☆☆☆20:05- 20:55 | Bachata Dominican o.l.v. Evi*Deelname aan de workshops vraagt om een vroege aanwezigheid. Deuren open om 19:50 uur!\n\n☆☆☆ SALSA\, BACHATA & KIZOMBA☆☆☆DJ Latin Pro (Arnhem) & DJ Louis (Den Bosch)\n\n☆☆☆☆☆☆☆☆☆☆ ☆☆☆☆☆☆☆☆☆☆\n\n☆☆☆ ALGEMENE INFO ☆☆☆Datum: Zaterdag 10 mei 2025Tijd: 20:00 – 01:00• Gratis garderobe• Gratis parkeerplaatsen\n\n☆☆☆ LOCATIE ☆☆☆YasalsaKazerneplein 10-1\, 6822ET te Arnhem\n\n☆☆☆ TICKETS ☆☆☆Online tickets verkrijgbaar via www.latinxplosion.nl• Early Bird ticket: €10\,00 (beperkt aantal tickets beschikbaar)• Regular ticket: €12\,50• Door ticket: €15\,00 (cash of pin)\n\n\nKoop Ticket Hier &#8212;> \n* Tickets verkoop start op 10-04-2025 en eindigt op 10-05-2025 om 19:00 uur.\nReeds gekochte tickets alleen retour bij annulering door de organisatie.
URL:https://djlatinpro.com/event/latin-x-plosion-arnhem-edition/
LOCATION:Yasalsa\, Kazerneplein 10-1\, Arnhem\, Gelderland\, 6822ET\, Netherlands
CATEGORIES:bachata,kizomba,Latin,lxp,Mambo,Party,salsa,Workshop
ATTACH;FMTTYPE=image/png:https://djlatinpro.com/wp-content/uploads/2025/03/Banner-LXP-10mei-ARNHEM.png
ORGANIZER;CN="DJ Latin Pro":MAILTO:info@djlatinpro.com
END:VEVENT
BEGIN:VEVENT
DTSTART;TZID=Europe/Amsterdam:20250516T210000
DTEND;TZID=Europe/Amsterdam:20250517T010000
DTSTAMP:20260422T235428
CREATED:20250508T225608Z
LAST-MODIFIED:20250508T225608Z
UID:86352-1747429200-1747443600@djlatinpro.com
SUMMARY:Latin Friday @ Cafe Tropical\, Utrecht
DESCRIPTION:
URL:https://djlatinpro.com/event/latin-friday-cafe-tropical-utrecht-4/
END:VEVENT
BEGIN:VEVENT
DTSTART;TZID=Europe/Amsterdam:20250524T200000
DTEND;TZID=Europe/Amsterdam:20250525T020000
DTSTAMP:20260422T235428
CREATED:20250326T171418Z
LAST-MODIFIED:20250329T113014Z
UID:85969-1748116800-1748138400@djlatinpro.com
SUMMARY:☆LATIN-X-PLOSION☆ 2 Area's || Salsa & Bachata // Kizomba
DESCRIPTION:Koop Ticket Hier &#8212;> \nDJ Latin Pro presents\n☆☆☆LATIN-X-PLOSION☆☆☆ 2 Dance Area&#8217;s \nOp zaterdag 24 mei 2025 vind LATIN-X-PLOSION plaats te Wensink in Apeldoorn. \nLatin-X-Plosion bestaat uit 2 dans-area’s speciaal geselecteerd voor de ultieme Latin & Afro experience.\nMet verschillende top dj’s achter de draaitafels\, krijg je gegarandeerd een spetterende dansavond in stijl! \nOm alvast in de juiste feeststemming te komen starten we de avond met een workshop\,\ndie verzorgt worden door verschillende top dans-docenten uit de danswereld.\nLatin-X-plosion een feest om niet te missen! \n☆☆☆☆☆☆☆☆☆☆ ☆☆☆☆☆☆☆☆☆☆ \n☆☆☆WORKSHOP☆☆☆\n21:05- 21:55 | Kizomba Fusion o.l.v. Wanita & Shervin\n*Deelname aan de workshops vraagt om een vroege aanwezigheid. Deuren open om 20:50 uur! \n☆☆☆ SALSA & BACHATA AREA☆☆☆DJ Latin Pro (Arnhem)DJ Latin Master (Amersfoort)DJ Virgil (Rotterdam) \n☆☆☆KIZOMBA AREA☆☆☆\nDJ Ryze (Den Haag)\nDJ Asile (Rotterdam) \n☆☆☆PICTURES☆☆☆\nFotograaf Victor Reinier legt al je mooiste dansmomenten vast. \n☆☆☆☆☆☆☆☆☆☆ ☆☆☆☆☆☆☆☆☆☆ \n☆☆☆ ALGEMENE INFO ☆☆☆\nDatum: Zaterdag 24 mei 2025\nTijd: 21:00 – 02:00\n• Gratis garderobe\n• Gratis parkeerplaatsen \n☆☆☆ LOCATIE ☆☆☆\nWensink Dance Masters\nMusschenbroekstraat 19\, 7316JD te Apeldoorn \n☆☆☆ TICKETS ☆☆☆\nOnline tickets verkrijgbaar via www.latinxplosion.nl\n• Early Bird ticket: €12\,50 (beperkt aantal tickets beschikbaar)\n• Regular ticket: €15\,00\n• Door ticket: €17\,50 (cash of pin) \nKoop Ticket Hier &#8212;> \n* Tickets verkoop start op 24-04-2024 en eindigt op 24-05-2025 om 20:00 uur.\nReeds gekochte tickets alleen retour bij annulering door de organisatie.
URL:https://djlatinpro.com/event/%e2%98%86latin-x-plosion%e2%98%86-2-areas-salsa-bachata-kizomba-7/
LOCATION:Wensink Dance Masters\, Musschenbroekstraat 19\, Apeldoorn\, Gelderland\, 7316JD\, Netherlands
CATEGORIES:bachata,Cuban,kizomba,Latin,lxp,Mambo,Party,salsa,Workshop
ATTACH;FMTTYPE=image/png:https://djlatinpro.com/wp-content/uploads/2025/03/Facebook-banner-MAY-2025.png
ORGANIZER;CN="DJ Latin Pro":MAILTO:info@djlatinpro.com
END:VEVENT
BEGIN:VEVENT
DTSTART;TZID=Europe/Amsterdam:20250530T210000
DTEND;TZID=Europe/Amsterdam:20250531T010000
DTSTAMP:20260422T235428
CREATED:20250527T213008Z
LAST-MODIFIED:20250527T213008Z
UID:86566-1748638800-1748653200@djlatinpro.com
SUMMARY:Latin Friday @ Cafe Tropical\, Utrecht
DESCRIPTION:
URL:https://djlatinpro.com/event/latin-friday-cafe-tropical-utrecht-5/
CATEGORIES:Booking
END:VEVENT
BEGIN:VEVENT
DTSTART;TZID=Europe/Amsterdam:20250531T220000
DTEND;TZID=Europe/Amsterdam:20250601T020000
DTSTAMP:20260422T235428
CREATED:20250527T213153Z
LAST-MODIFIED:20250527T213334Z
UID:86568-1748728800-1748743200@djlatinpro.com
SUMMARY:Baila Baila @ Stan\, Arnhem
DESCRIPTION:
URL:https://djlatinpro.com/event/baila-baila-stan-arnhem/
CATEGORIES:Booking
END:VEVENT
BEGIN:VEVENT
DTSTART;TZID=Europe/Amsterdam:20250606T210000
DTEND;TZID=Europe/Amsterdam:20250607T020000
DTSTAMP:20260422T235428
CREATED:20250508T222942Z
LAST-MODIFIED:20250508T222942Z
UID:86332-1749243600-1749261600@djlatinpro.com
SUMMARY:All Friday's Party @ Amanne\, Nijmegen
DESCRIPTION:
URL:https://djlatinpro.com/event/all-fridays-party-amanne-nijmegen-4/
CATEGORIES:Booking
END:VEVENT
BEGIN:VEVENT
DTSTART;TZID=Europe/Amsterdam:20250607T200000
DTEND;TZID=Europe/Amsterdam:20250608T020000
DTSTAMP:20260422T235428
CREATED:20250327T015429Z
LAST-MODIFIED:20250602T225641Z
UID:85995-1749326400-1749348000@djlatinpro.com
SUMMARY:Salsa Mambo Duketown @ De Ketering\, Rosmalen
DESCRIPTION:
URL:https://djlatinpro.com/event/salsa-mambo-duketown-de-ketering-rosmalen/
CATEGORIES:Booking
END:VEVENT
BEGIN:VEVENT
DTSTART;TZID=Europe/Amsterdam:20250608T180000
DTEND;TZID=Europe/Amsterdam:20250608T220000
DTSTAMP:20260422T235428
CREATED:20250325T224025Z
LAST-MODIFIED:20250326T171634Z
UID:85957-1749405600-1749420000@djlatinpro.com
SUMMARY:Latin Sunday @ Theodorakapel - Zwolle
DESCRIPTION:
URL:https://djlatinpro.com/event/latin-sunday-theodorakapel-zwolle/
CATEGORIES:Booking
END:VEVENT
BEGIN:VEVENT
DTSTART;TZID=Europe/Amsterdam:20250608T210000
DTEND;TZID=Europe/Amsterdam:20250609T033000
DTSTAMP:20260422T235428
CREATED:20250425T104123Z
LAST-MODIFIED:20250425T104123Z
UID:86293-1749416400-1749439800@djlatinpro.com
SUMMARY:Fiesta Deluxe (Birthday Bash Edition) @ Event Fokker\, Hoofddorp
DESCRIPTION:
URL:https://djlatinpro.com/event/fiesta-deluxe-birthday-bash-edition-event-fokker-hoofddorp/
CATEGORIES:Booking
END:VEVENT
BEGIN:VEVENT
DTSTART;TZID=Europe/Amsterdam:20250613T210000
DTEND;TZID=Europe/Amsterdam:20250614T010000
DTSTAMP:20260422T235428
CREATED:20250527T213956Z
LAST-MODIFIED:20250527T213956Z
UID:86572-1749848400-1749862800@djlatinpro.com
SUMMARY:Latin Friday @ Cafe Tropical\, Utrecht
DESCRIPTION:
URL:https://djlatinpro.com/event/latin-friday-cafe-tropical-utrecht-6/
CATEGORIES:Booking
END:VEVENT
BEGIN:VEVENT
DTSTART;TZID=Europe/Amsterdam:20250614T203000
DTEND;TZID=Europe/Amsterdam:20250615T010000
DTSTAMP:20260422T235428
CREATED:20250325T223114Z
LAST-MODIFIED:20250326T171608Z
UID:85948-1749933000-1749949200@djlatinpro.com
SUMMARY:Salsa Cubana Party @ Amanne • Nijmegen
DESCRIPTION:
URL:https://djlatinpro.com/event/salsa-cubana-party-amanne-nijmegen-2/
CATEGORIES:Booking
END:VEVENT
BEGIN:VEVENT
DTSTART;TZID=Europe/Amsterdam:20250620T210000
DTEND;TZID=Europe/Amsterdam:20250621T020000
DTSTAMP:20260422T235428
CREATED:20250508T223200Z
LAST-MODIFIED:20250508T223200Z
UID:86334-1750453200-1750471200@djlatinpro.com
SUMMARY:All Friday's Party @ Amanne\, Nijmegen
DESCRIPTION:
URL:https://djlatinpro.com/event/all-fridays-party-amanne-nijmegen-5/
CATEGORIES:Booking
END:VEVENT
BEGIN:VEVENT
DTSTART;TZID=Europe/Amsterdam:20250627T210000
DTEND;TZID=Europe/Amsterdam:20250628T013000
DTSTAMP:20260422T235428
CREATED:20250617T214837Z
LAST-MODIFIED:20250617T214837Z
UID:86629-1751058000-1751074200@djlatinpro.com
SUMMARY:Latin Friday @ Cafe Tropical\, Utrecht
DESCRIPTION:
URL:https://djlatinpro.com/event/latin-friday-cafe-tropical-utrecht-7/
CATEGORIES:Booking
END:VEVENT
BEGIN:VEVENT
DTSTART;TZID=Europe/Amsterdam:20250628T210000
DTEND;TZID=Europe/Amsterdam:20250629T020000
DTSTAMP:20260422T235428
CREATED:20250602T161924Z
LAST-MODIFIED:20250603T212130Z
UID:86575-1751144400-1751162400@djlatinpro.com
SUMMARY:☆LATIN-X-PLOSION☆ 2 Area's || Salsa & Bachata // Kizomba
DESCRIPTION:Koop Ticket Hier &#8212;> \nDJ Latin Pro presents\n☆☆☆LATIN-X-PLOSION☆☆☆ 2 Dance Area&#8217;s \nOp zaterdag 28 juni 2025 vind LATIN-X-PLOSION plaats te Wensink in Apeldoorn. \nLatin-X-Plosion bestaat uit 2 dans-area’s speciaal geselecteerd voor de ultieme Latin & Afro experience.\nMet verschillende top dj’s achter de draaitafels\, krijg je gegarandeerd een spetterende dansavond in stijl! \nOm alvast in de juiste feeststemming te komen starten we de avond met een workshop\,\ndie verzorgt worden door verschillende top dans-docenten uit de danswereld.\nLatin-X-plosion een feest om niet te missen! \n☆☆☆☆☆☆☆☆☆☆ ☆☆☆☆☆☆☆☆☆☆ \n☆☆☆WORKSHOP☆☆☆\n21:05- 21:55 | Master Class Salsa o.l.v. Brian Libier (Salsaddiction)\n*Deelname aan de workshops vraagt om een vroege aanwezigheid. Deuren open om 20:50 uur! \n☆☆☆ SALSA & BACHATA AREA☆☆☆DJ Latin Pro (Arnhem)DJ Tinta (Amsterdam)DJ Jarzino (Amsterdam) \n☆☆☆KIZOMBA AREA☆☆☆\nDJ Afrosom (Zwolle)\nDJ Dude (Haarlem) \n☆☆☆PICTURES☆☆☆\nFotograaf Victor Reinier legt al je mooiste dansmomenten vast. \n☆☆☆☆☆☆☆☆☆☆ ☆☆☆☆☆☆☆☆☆☆ \n☆☆☆ ALGEMENE INFO ☆☆☆\nDatum: Zaterdag 28 juni 2025\nTijd: 21:00 – 02:00\n• Gratis garderobe\n• Gratis parkeerplaatsen \n☆☆☆ LOCATIE ☆☆☆\nWensink Dance Masters\nMusschenbroekstraat 19\, 7316JD te Apeldoorn \n☆☆☆ TICKETS ☆☆☆\nOnline tickets verkrijgbaar via www.latinxplosion.nl\n• Early Bird ticket: €12\,50 (beperkt aantal tickets beschikbaar)\n• Regular ticket: €15\,00\n• Door ticket: €17\,50 (cash of pin) \nKoop Ticket Hier &#8212;> \n* Tickets verkoop start op 02-06-2025 en eindigt op 28-06-2025 om 20:00 uur.\nReeds gekochte tickets alleen retour bij annulering door de organisatie.
URL:https://djlatinpro.com/event/%e2%98%86latin-x-plosion%e2%98%86-2-areas-salsa-bachata-kizomba-8/
LOCATION:Wensink Dance Masters\, Musschenbroekstraat 19\, Apeldoorn\, Gelderland\, 7316JD\, Netherlands
CATEGORIES:bachata,Caribbean,Cuban,kizomba,Latin,live,lxp,Mambo,Party,salsa,Workshop
ATTACH;FMTTYPE=image/png:https://djlatinpro.com/wp-content/uploads/2025/06/unnamed-scaled.png
ORGANIZER;CN="DJ Latin Pro":MAILTO:info@djlatinpro.com
END:VEVENT
BEGIN:VEVENT
DTSTART;TZID=Europe/Amsterdam:20250704T210000
DTEND;TZID=Europe/Amsterdam:20250705T020000
DTSTAMP:20260422T235428
CREATED:20250602T225834Z
LAST-MODIFIED:20250603T210940Z
UID:86590-1751662800-1751680800@djlatinpro.com
SUMMARY:All Friday's Party @ Amanne\, Nijmegen
DESCRIPTION:
URL:https://djlatinpro.com/event/all-fridays-party-nijmegen/
CATEGORIES:Booking
END:VEVENT
BEGIN:VEVENT
DTSTART;TZID=Europe/Amsterdam:20250705T133000
DTEND;TZID=Europe/Amsterdam:20250705T190000
DTSTAMP:20260422T235428
CREATED:20250508T223441Z
LAST-MODIFIED:20250508T223441Z
UID:86336-1751722200-1751742000@djlatinpro.com
SUMMARY:Dia di Himno i Bandera @ Goffert OpenluchtTheater\, Nijmegen
DESCRIPTION:
URL:https://djlatinpro.com/event/dia-di-himno-i-bandera-goffert-openluchttheater-nijmegen/
CATEGORIES:Booking
END:VEVENT
BEGIN:VEVENT
DTSTART;TZID=Europe/Amsterdam:20250705T210000
DTEND;TZID=Europe/Amsterdam:20250706T010000
DTSTAMP:20260422T235428
CREATED:20250527T213626Z
LAST-MODIFIED:20250527T213626Z
UID:86570-1751749200-1751763600@djlatinpro.com
SUMMARY:Jerry's Latin Party @ 't Holland 39\, Duiven
DESCRIPTION:
URL:https://djlatinpro.com/event/jerrys-latin-party-t-holland-39-duiven/
CATEGORIES:Booking
END:VEVENT
BEGIN:VEVENT
DTSTART;TZID=Europe/Amsterdam:20250710T180000
DTEND;TZID=Europe/Amsterdam:20250711T020000
DTSTAMP:20260422T235428
CREATED:20250708T213519Z
LAST-MODIFIED:20250709T003045Z
UID:86763-1752170400-1752199200@djlatinpro.com
SUMMARY:Summer Breeze @ Westweelde\, Amsterdam
DESCRIPTION:
URL:https://djlatinpro.com/event/summer-breeze-amsterdam/
CATEGORIES:Booking
END:VEVENT
BEGIN:VEVENT
DTSTART;TZID=Europe/Amsterdam:20250711T200000
DTEND;TZID=Europe/Amsterdam:20250712T020000
DTSTAMP:20260422T235428
CREATED:20250602T225515Z
LAST-MODIFIED:20250603T211225Z
UID:86587-1752264000-1752285600@djlatinpro.com
SUMMARY:HODE Latin Party @ Sterrebosch\, Wijchen
DESCRIPTION:
URL:https://djlatinpro.com/event/hode-wijchen/
CATEGORIES:Booking
END:VEVENT
BEGIN:VEVENT
DTSTART;TZID=Europe/Amsterdam:20250712T180000
DTEND;TZID=Europe/Amsterdam:20250712T210000
DTSTAMP:20260422T235428
CREATED:20250708T213741Z
LAST-MODIFIED:20250709T002653Z
UID:86765-1752343200-1752354000@djlatinpro.com
SUMMARY:Tropical Night @ Pastorie Plein\, Hengelo
DESCRIPTION:
URL:https://djlatinpro.com/event/tropical-night-hengelo/
CATEGORIES:Booking
END:VEVENT
BEGIN:VEVENT
DTSTART;TZID=Europe/Amsterdam:20250713T190000
DTEND;TZID=Europe/Amsterdam:20250714T003000
DTSTAMP:20260422T235428
CREATED:20250618T071702Z
LAST-MODIFIED:20250618T071702Z
UID:86640-1752433200-1752453000@djlatinpro.com
SUMMARY:Amanne @ Kelfkensbos Festival\, Nijmegen
DESCRIPTION:
URL:https://djlatinpro.com/event/amanne-kelfkensbos-festival-nijmegen/
CATEGORIES:Booking
END:VEVENT
BEGIN:VEVENT
DTSTART;TZID=Europe/Amsterdam:20250716T200000
DTEND;TZID=Europe/Amsterdam:20250717T003000
DTSTAMP:20260422T235428
CREATED:20250617T215736Z
LAST-MODIFIED:20250617T215751Z
UID:86635-1752696000-1752712200@djlatinpro.com
SUMMARY:Playa Waalzicht @ Lent
DESCRIPTION:
URL:https://djlatinpro.com/event/playa-waalzicht-lent/
CATEGORIES:Booking
END:VEVENT
BEGIN:VEVENT
DTSTART;TZID=Europe/Amsterdam:20250719T200000
DTEND;TZID=Europe/Amsterdam:20250720T010000
DTSTAMP:20260422T235428
CREATED:20250508T223924Z
LAST-MODIFIED:20250603T211117Z
UID:86338-1752955200-1752973200@djlatinpro.com
SUMMARY:Dominican Frenzy @ Cafe D'N Ekker\, Best
DESCRIPTION:
URL:https://djlatinpro.com/event/dominican-frenzy-best/
CATEGORIES:Booking
END:VEVENT
BEGIN:VEVENT
DTSTART;TZID=Europe/Amsterdam:20250725T203000
DTEND;TZID=Europe/Amsterdam:20250726T013000
DTSTAMP:20260422T235428
CREATED:20250617T215001Z
LAST-MODIFIED:20250617T215001Z
UID:86631-1753475400-1753493400@djlatinpro.com
SUMMARY:Latin Friday @ Cafe Tropical\, Utrecht
DESCRIPTION:
URL:https://djlatinpro.com/event/latin-friday-cafe-tropical-utrecht-8/
CATEGORIES:Booking
END:VEVENT
BEGIN:VEVENT
DTSTART;TZID=Europe/Amsterdam:20250726T200000
DTEND;TZID=Europe/Amsterdam:20250727T010000
DTSTAMP:20260422T235428
CREATED:20250209T122746Z
LAST-MODIFIED:20250326T171537Z
UID:85547-1753560000-1753578000@djlatinpro.com
SUMMARY:SBK LelyStyle Social Night @ Flex Gym • Lelystad
DESCRIPTION:
URL:https://djlatinpro.com/event/sbk-lelystyle-social-night-flex-gym-lelystad/
CATEGORIES:Booking
END:VEVENT
BEGIN:VEVENT
DTSTART;TZID=Europe/Amsterdam:20250727T080000
DTEND;TZID=Europe/Amsterdam:20250728T000000
DTSTAMP:20260422T235428
CREATED:20250325T223802Z
LAST-MODIFIED:20250327T015457Z
UID:85954-1753603200-1753660800@djlatinpro.com
SUMMARY:LLOTB Festival @ Beachclub Brodazz Beach - Voorst
DESCRIPTION:
URL:https://djlatinpro.com/event/llotb-festival-beachclub-brodazz-beach-voorst/
CATEGORIES:Booking
END:VEVENT
BEGIN:VEVENT
DTSTART;TZID=Europe/Amsterdam:20250801T210000
DTEND;TZID=Europe/Amsterdam:20250802T020000
DTSTAMP:20260422T235428
CREATED:20250708T213913Z
LAST-MODIFIED:20250709T002906Z
UID:86767-1754082000-1754100000@djlatinpro.com
SUMMARY:All Friday's Party @ Amanne\, Nijmegen
DESCRIPTION:
URL:https://djlatinpro.com/event/all-fridays-party-nijmegen-2/
CATEGORIES:Booking
END:VEVENT
BEGIN:VEVENT
DTSTART;TZID=Europe/Amsterdam:20250806T190000
DTEND;TZID=Europe/Amsterdam:20250806T230000
DTSTAMP:20260422T235428
CREATED:20250708T214619Z
LAST-MODIFIED:20250709T002552Z
UID:86774-1754506800-1754521200@djlatinpro.com
SUMMARY:Fuego Tropical @ Beton T\, Utrecht
DESCRIPTION:
URL:https://djlatinpro.com/event/fuegotropical/
CATEGORIES:Booking
END:VEVENT
END:VCALENDAR