BEGIN:VCALENDAR
VERSION:2.0
PRODID:-//Djlatinpro - ECPv6.15.20//NONSGML v1.0//EN
CALSCALE:GREGORIAN
METHOD:PUBLISH
X-WR-CALNAME:Djlatinpro
X-ORIGINAL-URL:https://djlatinpro.com
X-WR-CALDESC:Events for Djlatinpro
REFRESH-INTERVAL;VALUE=DURATION:PT1H
X-Robots-Tag:noindex
X-PUBLISHED-TTL:PT1H
BEGIN:VTIMEZONE
TZID:Europe/Amsterdam
BEGIN:DAYLIGHT
TZOFFSETFROM:+0100
TZOFFSETTO:+0200
TZNAME:CEST
DTSTART:20180325T010000
END:DAYLIGHT
BEGIN:STANDARD
TZOFFSETFROM:+0200
TZOFFSETTO:+0100
TZNAME:CET
DTSTART:20181028T010000
END:STANDARD
BEGIN:DAYLIGHT
TZOFFSETFROM:+0100
TZOFFSETTO:+0200
TZNAME:CEST
DTSTART:20190331T010000
END:DAYLIGHT
BEGIN:STANDARD
TZOFFSETFROM:+0200
TZOFFSETTO:+0100
TZNAME:CET
DTSTART:20191027T010000
END:STANDARD
BEGIN:DAYLIGHT
TZOFFSETFROM:+0100
TZOFFSETTO:+0200
TZNAME:CEST
DTSTART:20200329T010000
END:DAYLIGHT
BEGIN:STANDARD
TZOFFSETFROM:+0200
TZOFFSETTO:+0100
TZNAME:CET
DTSTART:20201025T010000
END:STANDARD
END:VTIMEZONE
BEGIN:VEVENT
DTSTART;TZID=Europe/Amsterdam:20190608T203000
DTEND;TZID=Europe/Amsterdam:20190609T030000
DTSTAMP:20260423T003727
CREATED:20190406T192725Z
LAST-MODIFIED:20190607T072758Z
UID:403-1560025800-1560049200@djlatinpro.com
SUMMARY:☆Latin-X-Plosion☆ 5 Dance Areas
DESCRIPTION:DJ Latin Pro presents\n\n☆☆☆☆☆LATIN-X-PLOSION☆☆☆☆☆\n\n\n \n\n\nOp zaterdag 8 juni 2019 vind de tweede editie van LATIN-X-PLOSION plaats te Fort Bronsbergen in Zutphen.\n\n\n \n\n\nLatin-X-plosion bestaat uit 5 dans-area’s speciaal geselecteerd voor de ultieme Latin experience:\n\n\nSalsa • Bachata • Cubaans • Kizomba • Caribbean.\n\n\nMet verschillende top dj&#8217;s achter de draaitafels\, krijg je gegarandeerd een geweldige dansavond in stijl!\n\n\n \n\n\nOm alvast in de juiste feest-stemming te komen starten we de avond met een aantal gratis workshops\, die verzorgt worden door verschillende top dans-docenten uit de dans-wereld.\n\n\n \n\n\nLatin-X-plosion een feest om niet te missen!\n\n\n \n\n\n☆☆☆☆☆☆☆☆☆☆ ☆☆☆☆☆☆☆☆☆☆\n\n\n \n\n\n☆☆☆ WORKSHOPS☆☆☆\n\n\n \n\n\n20:30 &#8211; 21:15 | WS Bachata Moderna van Michael & Melanie (Salsashakers\, Zutphen)\n\n\n \n\n\n21:15 &#8211; 22:00 | WS Kizomba van Ladira Marselia (Eindhoven)\n\n\n \n\n\n21:15 &#8211; 22:00 | WS Salsa Cuban van Soy Cuba (Arnhem & Nijmegen)\n\n\n \n\n\n*Deelname aan de workshops vraagt om een vroege aanwezigheid. Deuren open om 20:15 uur!\n\n\n \n\n\n☆☆☆ LINE-UP ☆☆☆\n\n\n\nCARIBBEAN AREA\nLive on stage:\nIR-SAIS (bekent van o.a. Midnight Boom\, Voor Jou\, Enjoying the Sun)\nLatin Pro (Arnhem)\, Brain K (Utrecht) & Mershel (Nijmegen) \nBACHATA AREA:\nIncognito (Arnhem)\, Diaks (Deventer) & Joost (Arnhem) \nSALSA AREA:\nAndre (Utrecht)\, Virgil el Gigante (Rotterdam) & Bico (Dusseldorf\, DE) \nCUBAN AREA:\nLeslie (Utrecht) \nKIZOMBA AREA:\nJS1 (Enschede) & O.P.A. (Amsterdam) \n\n\n\n☆☆☆☆☆☆☆☆☆☆ ☆☆☆☆☆☆☆☆☆☆\n\n\n \n\n\n☆☆☆ TICKETS ☆☆☆\n\n\nBeschikbaar via link of www.djlatinpro.com\n\n\n&#8211; Early bird ticket €12\,50 (ex fee) | 50 tickets beschikbaar \n\n\n&#8211; Early bird couple ticket €23\,50 (ex fee) | 50 tickets beschikbaar\n\n\n&#8211; Regular ticket €15\,00 (ex fee)\n&#8211; Door ticket €20\,00 \n\n\n \n\n\n ☆☆☆ OPENINGSTIJDEN ☆☆☆ \n\n\n20:30u &#8211; 02:30u *Deuren open om 20:15 uur\n\n\n \n\n\n☆☆☆ LOCATIE ☆☆☆\n\n\nFort Bronsbergen\n\n\nBronsbergen 25\, 7207 AD Zutphen\n\n\n \n\n\n☆☆☆ ALGEMENE INFO ☆☆☆\n\n\nDatum: Zaterdag 8 juni 2019\n\n\nTijd: 20:15 &#8211; 03:00\n\n\n&#8211; Garderobe 1 euro per item   *grote tassen mogen de zalen niet in\n\n\n&#8211; Catering aanwezig\n\n\n&#8211; Fotograaf aanwezig\n\n\n&#8211; Beveiliging aanwezig\n\n\n&#8211; Gratis parkeerplaatsen\n\n\nSCROLL NAAR BENEDEN OM JE TICKET TE KOPEN
URL:https://djlatinpro.com/event/%e2%98%86latin-x-plosion%e2%98%86-5-dance-areas/
LOCATION:Fort Bronsbergen\, Bronsbergen 25\, Zutphrn\, Gelderland\, 7207AD\, Netherlands
ATTACH;FMTTYPE=image/png:https://djlatinpro.com/wp-content/uploads/2019/04/FB-Banner-Latin-Xplosion.png
ORGANIZER;CN="DJ Latin Pro":MAILTO:info@djlatinpro.com
END:VEVENT
BEGIN:VEVENT
DTSTART;TZID=Europe/Amsterdam:20190526T143000
DTEND;TZID=Europe/Amsterdam:20190526T170000
DTSTAMP:20260423T003727
CREATED:20190430T170121Z
LAST-MODIFIED:20190430T211017Z
UID:486-1558881000-1558890000@djlatinpro.com
SUMMARY:Bootcamp Kizomba Beginners
DESCRIPTION:Samen met mijn danspartner nodigen wij jullie uit om 26 mei deze fantastische bootcamp Kizomba beginners mee te doen!\n\n\n \n\n\nWhat to expect?\n\n\n \n\n\n* Basic moves \n\n\n* Musicality \n\n\n* Controle of your body \n\n\n* How to use the dance floor \n\n\n* Many more..\n\n\n \n\n\nDe bootcamp zal om 14:30 starten tot 17:00 met een eventuele uitloop.\n\n\nDe deuren zullen om 14:15 worden geopend.\n\n\n \n\n\nTarieven:\n\n\nPer persoon: €35\,- (excl. fee)\n\n\nPer koppel: €60\,- (excl. fee)\n\n\n \n\n\nTickets beschikbaar via ticket-link of www.djlatinpro.com.\n\n\n \n\n\n \n\n\nAVG:\n\n\n \n\n\n* De betalingen dienen vooraf te worden voldaan.\n\n\n* meldt u zich 24 uur van te voren af dan bent u gegarandeerd op teruggave van u betaling. Na 24 uur komen deze te vervallen. \n\n\n* Het is niet toegestaan om met buiten schoenen de dansvloer te betreden. Neem dus een extra paar dans/binnen schoenen mee. Deze graag voor de zaal te betreden verwisselen.\n\n\n*Kauwgom is niet toegestaan op de dansvloer. \n\n\n \n\n\nHeeft u vragen stel ze gerust! \n\n\n \n\n\nTot 26 mei op de dansvloer!\n\n\n \n\n\n#bootcamp #letsdance #seeyouonthedancefloor
URL:https://djlatinpro.com/event/bootcamp-kizomba-beginners/
LOCATION:Studio 7\, Westerstraat 220\, Emmen\, Drenthe\, 7811 MZ\, Netherlands
CATEGORIES:kizomba
ATTACH;FMTTYPE=image/jpeg:https://djlatinpro.com/wp-content/uploads/2019/04/Kizomba-bootcamp-banner-scaled.jpg
END:VEVENT
BEGIN:VEVENT
DTSTART;TZID=Europe/Amsterdam:20190511T210000
DTEND;TZID=Europe/Amsterdam:20190512T030000
DTSTAMP:20260423T003727
CREATED:20190404T104054Z
LAST-MODIFIED:20190511T160404Z
UID:263-1557608400-1557630000@djlatinpro.com
SUMMARY:FUSÁO
DESCRIPTION:DJ Latin Pro presents\nWhen two hearts become one by fusion you get \n♥♥♥♥♥FUSÁO♥♥♥♥♥ Exclusive Bachata & Kizomba Party \n&#8212;&#8212;&#8212;&#8212;&#8212;&#8212;&#8212;&#8212;&#8212;&#8212;&#8212;&#8212;&#8212;&#8212;&#8212;&#8212;&#8212;&#8212;&#8212;&#8212;&#8212;&#8212;&#8212;&#8212;- \n* WORKSHOPS *\n&#8211; Kizomba Fusion by\nWANITA & ADILSON @ 21:00h till 22:00h *Doors open at 20:45 hours \n&#8211; Bachata Dominican by\nRICHENDEL & SELINA @ 22:15h till 23:15h \n&#8212;&#8212;&#8212;&#8212;&#8212;&#8212;&#8212;&#8212;&#8212;&#8212;&#8212;&#8212;&#8212;&#8212;&#8212;&#8212;&#8212;&#8212;&#8212;&#8212;&#8212;&#8212;&#8212;&#8212;- \nBACHATA AREA [80% Bachata &#8211; 20% Salsa &#8211; Mix]\nLATIN PRO (Arnhem)\nJOOST (Arnhem)\nMOUSE (Nijmegen) \nKIZOMBA AREA *Time to dance: 22:00h\nELLEN (Eindhoven)\nTRAYBEATZ (Amsterdam)\nBICO (Düsseldorf\, DE) \n*Support by The KNIGHTS of KIZOMBA & The SPECIALISTS \n&#8212;&#8212;&#8212;&#8212;&#8212;&#8212;&#8212;&#8212;&#8212;&#8212;&#8212;&#8212;&#8212;&#8212;&#8212;&#8212;&#8212;&#8212;&#8212;&#8212;&#8212;&#8212;&#8212;&#8212;- \nPicture by Kavash AZ (The Hague) \nSoulfood by &#8230;&#8230;&#8230;&#8230;&#8230;.. \n&#8212;&#8212;&#8212;&#8212;&#8212;&#8212;&#8212;&#8212;&#8212;&#8212;&#8212;&#8212;&#8212;&#8212;&#8212;&#8212;&#8212;&#8212;&#8212;&#8212;&#8212;&#8212;&#8212;&#8212;- \n**PARTY INFO**\nDate: 11-05-2019\nPlace: Amanné | Tweede walstraat 118\, 6511 LW @ Nijmegen\nTime for workshops: 21:00h &#8211; 23:15h | Doors open at 20:45h\n* Time to dance: 22:00h &#8211; 03:00h\nOnly party pass: 12 euro\nParty pass + 1 workshop: 17\,00 euro\nFull party pass (+2 workshops) : 20\,00 euro \n**PRE-SALE**\nOnly party pass: 9 euro [100 tickets]\nParty pass + 1 workshop Kizomba Fusion: 14\,50 euro [75 tickets]\nParty pass + 1 workshop Bachata Dominican: 14\,50 euro [75 tickets]\nFull party pass (+2 workshops): 17\,50 euro [50 tickets]\nFull couple party pass (+2 workshops): 32\,50 euro [50 tickets] \n(ends on 10-05-2019) \n&#8212;&#8212;&#8212;&#8212;&#8212;&#8212;&#8212;&#8212;&#8212;&#8212;&#8212;&#8212;&#8212;&#8212;&#8212;&#8212;&#8212;&#8212;&#8212;&#8212;&#8212;&#8212;&#8212;&#8212;- \n**EXTRA INFO***\n* Free Parking after 21:00h | Before 21:00h on the streets 2\,70 euro a hour\n* Great location with awesome dancefloors\n* Free toilet access\n* Wardrobe €1\,00 each item\n* Payment cash or pin\nFor more info visite www.djlatinpro.com &#8211; www.amanne.nl \nSCROLL NAAR BENEDEN OM JE TICKET TE KOPEN
URL:https://djlatinpro.com/event/fusao/
LOCATION:Amanné\, Tweede walstraat 118\, Nijmegen\, 6511 LW\, Netherlands
CATEGORIES:bachata,kizomba,Party,salsa
ATTACH;FMTTYPE=image/jpeg:https://djlatinpro.com/wp-content/uploads/2019/04/Flyer-Fusao-IIB.jpg
ORGANIZER;CN="DJ Latin Pro":MAILTO:info@djlatinpro.com
END:VEVENT
BEGIN:VEVENT
DTSTART;TZID=Europe/Amsterdam:20190430T000000
DTEND;TZID=Europe/Amsterdam:20190430T000000
DTSTAMP:20260423T003727
CREATED:20190430T173135Z
LAST-MODIFIED:20190430T174143Z
UID:484-1556582400-1556582400@djlatinpro.com
SUMMARY:Bootcamp Kizomba Beginners
DESCRIPTION:Samen met mijn danspartner nodigen wij jullie uit om 26 mei deze fantastische bootcamp Kizomba beginners mee te doen!\n\n\n \n\n\nWhat to expect?\n\n\n \n\n\n* Basic moves \n\n\n* Musicality \n\n\n* Controle of your body \n\n\n* How to use the dance floor \n\n\n* Many more..\n\n\n \n\n\nDe bootcamp zal om 14:30 starten tot 17:00 met een eventuele uitloop.\n\n\nDe deuren zullen om 14:15 worden geopend.\n\n\n \n\n\nWilt u meedoen met deze bootcamp meld u dan nu aan via:\n\n\ninfo@djlatinpro.com\n\n\n \n\n\nTarieven:\n\n\nPer persoon: €35\,-\n\n\nPer koppel: €60\,-\n\n\n \n\n\nAVG:\n\n\n \n\n\n* De betalingen dienen vooraf te worden voldaan.\n\n\n* meldt u zich 24 uur van te voren af dan bent u gegarandeerd op teruggave van u betaling. Na 24 uur komen deze te vervallen. \n\n\n* Het is niet toegestaan om met buiten schoenen de dansvloer te betreden. Neem dus een extra paar dans/binnen schoenen mee. Deze graag voor de zaal te betreden verwisselen.\n\n\n* Kauwgom is niet toegestaan op de dansvloer. \n\n\n \n\n\nHeeft u vragen stel ze gerust! \n\n\n \n\n\nTot 26 mei op de dansvloer!\n\n\n \n\n\n#bootcamp #letsdance #seeyouonthedancefloor
URL:https://djlatinpro.com/event/bootcamp-kizomba-beginners-2/
END:VEVENT
END:VCALENDAR