BEGIN:VCALENDAR
VERSION:2.0
PRODID:-//Djlatinpro - ECPv6.15.20//NONSGML v1.0//EN
CALSCALE:GREGORIAN
METHOD:PUBLISH
X-ORIGINAL-URL:https://djlatinpro.com
X-WR-CALDESC:Events for Djlatinpro
REFRESH-INTERVAL;VALUE=DURATION:PT1H
X-Robots-Tag:noindex
X-PUBLISHED-TTL:PT1H
BEGIN:VTIMEZONE
TZID:Europe/Amsterdam
BEGIN:DAYLIGHT
TZOFFSETFROM:+0100
TZOFFSETTO:+0200
TZNAME:CEST
DTSTART:20240331T010000
END:DAYLIGHT
BEGIN:STANDARD
TZOFFSETFROM:+0200
TZOFFSETTO:+0100
TZNAME:CET
DTSTART:20241027T010000
END:STANDARD
BEGIN:DAYLIGHT
TZOFFSETFROM:+0100
TZOFFSETTO:+0200
TZNAME:CEST
DTSTART:20250330T010000
END:DAYLIGHT
BEGIN:STANDARD
TZOFFSETFROM:+0200
TZOFFSETTO:+0100
TZNAME:CET
DTSTART:20251026T010000
END:STANDARD
BEGIN:DAYLIGHT
TZOFFSETFROM:+0100
TZOFFSETTO:+0200
TZNAME:CEST
DTSTART:20260329T010000
END:DAYLIGHT
BEGIN:STANDARD
TZOFFSETFROM:+0200
TZOFFSETTO:+0100
TZNAME:CET
DTSTART:20261025T010000
END:STANDARD
END:VTIMEZONE
BEGIN:VEVENT
DTSTART;TZID=Europe/Amsterdam:20250710T180000
DTEND;TZID=Europe/Amsterdam:20250711T020000
DTSTAMP:20260423T000030
CREATED:20250708T213519Z
LAST-MODIFIED:20250709T003045Z
UID:86763-1752170400-1752199200@djlatinpro.com
SUMMARY:Summer Breeze @ Westweelde\, Amsterdam
DESCRIPTION:
URL:https://djlatinpro.com/event/summer-breeze-amsterdam/
CATEGORIES:Booking
END:VEVENT
BEGIN:VEVENT
DTSTART;TZID=Europe/Amsterdam:20250711T200000
DTEND;TZID=Europe/Amsterdam:20250712T020000
DTSTAMP:20260423T000030
CREATED:20250602T225515Z
LAST-MODIFIED:20250603T211225Z
UID:86587-1752264000-1752285600@djlatinpro.com
SUMMARY:HODE Latin Party @ Sterrebosch\, Wijchen
DESCRIPTION:
URL:https://djlatinpro.com/event/hode-wijchen/
CATEGORIES:Booking
END:VEVENT
BEGIN:VEVENT
DTSTART;TZID=Europe/Amsterdam:20250712T180000
DTEND;TZID=Europe/Amsterdam:20250712T210000
DTSTAMP:20260423T000030
CREATED:20250708T213741Z
LAST-MODIFIED:20250709T002653Z
UID:86765-1752343200-1752354000@djlatinpro.com
SUMMARY:Tropical Night @ Pastorie Plein\, Hengelo
DESCRIPTION:
URL:https://djlatinpro.com/event/tropical-night-hengelo/
CATEGORIES:Booking
END:VEVENT
BEGIN:VEVENT
DTSTART;TZID=Europe/Amsterdam:20250713T190000
DTEND;TZID=Europe/Amsterdam:20250714T003000
DTSTAMP:20260423T000030
CREATED:20250618T071702Z
LAST-MODIFIED:20250618T071702Z
UID:86640-1752433200-1752453000@djlatinpro.com
SUMMARY:Amanne @ Kelfkensbos Festival\, Nijmegen
DESCRIPTION:
URL:https://djlatinpro.com/event/amanne-kelfkensbos-festival-nijmegen/
CATEGORIES:Booking
END:VEVENT
BEGIN:VEVENT
DTSTART;TZID=Europe/Amsterdam:20250716T200000
DTEND;TZID=Europe/Amsterdam:20250717T003000
DTSTAMP:20260423T000030
CREATED:20250617T215736Z
LAST-MODIFIED:20250617T215751Z
UID:86635-1752696000-1752712200@djlatinpro.com
SUMMARY:Playa Waalzicht @ Lent
DESCRIPTION:
URL:https://djlatinpro.com/event/playa-waalzicht-lent/
CATEGORIES:Booking
END:VEVENT
BEGIN:VEVENT
DTSTART;TZID=Europe/Amsterdam:20250719T200000
DTEND;TZID=Europe/Amsterdam:20250720T010000
DTSTAMP:20260423T000030
CREATED:20250508T223924Z
LAST-MODIFIED:20250603T211117Z
UID:86338-1752955200-1752973200@djlatinpro.com
SUMMARY:Dominican Frenzy @ Cafe D'N Ekker\, Best
DESCRIPTION:
URL:https://djlatinpro.com/event/dominican-frenzy-best/
CATEGORIES:Booking
END:VEVENT
BEGIN:VEVENT
DTSTART;TZID=Europe/Amsterdam:20250725T203000
DTEND;TZID=Europe/Amsterdam:20250726T013000
DTSTAMP:20260423T000030
CREATED:20250617T215001Z
LAST-MODIFIED:20250617T215001Z
UID:86631-1753475400-1753493400@djlatinpro.com
SUMMARY:Latin Friday @ Cafe Tropical\, Utrecht
DESCRIPTION:
URL:https://djlatinpro.com/event/latin-friday-cafe-tropical-utrecht-8/
CATEGORIES:Booking
END:VEVENT
BEGIN:VEVENT
DTSTART;TZID=Europe/Amsterdam:20250726T200000
DTEND;TZID=Europe/Amsterdam:20250727T010000
DTSTAMP:20260423T000030
CREATED:20250209T122746Z
LAST-MODIFIED:20250326T171537Z
UID:85547-1753560000-1753578000@djlatinpro.com
SUMMARY:SBK LelyStyle Social Night @ Flex Gym • Lelystad
DESCRIPTION:
URL:https://djlatinpro.com/event/sbk-lelystyle-social-night-flex-gym-lelystad/
CATEGORIES:Booking
END:VEVENT
BEGIN:VEVENT
DTSTART;TZID=Europe/Amsterdam:20250727T080000
DTEND;TZID=Europe/Amsterdam:20250728T000000
DTSTAMP:20260423T000030
CREATED:20250325T223802Z
LAST-MODIFIED:20250327T015457Z
UID:85954-1753603200-1753660800@djlatinpro.com
SUMMARY:LLOTB Festival @ Beachclub Brodazz Beach - Voorst
DESCRIPTION:
URL:https://djlatinpro.com/event/llotb-festival-beachclub-brodazz-beach-voorst/
CATEGORIES:Booking
END:VEVENT
BEGIN:VEVENT
DTSTART;TZID=Europe/Amsterdam:20250801T210000
DTEND;TZID=Europe/Amsterdam:20250802T020000
DTSTAMP:20260423T000030
CREATED:20250708T213913Z
LAST-MODIFIED:20250709T002906Z
UID:86767-1754082000-1754100000@djlatinpro.com
SUMMARY:All Friday's Party @ Amanne\, Nijmegen
DESCRIPTION:
URL:https://djlatinpro.com/event/all-fridays-party-nijmegen-2/
CATEGORIES:Booking
END:VEVENT
BEGIN:VEVENT
DTSTART;TZID=Europe/Amsterdam:20250806T190000
DTEND;TZID=Europe/Amsterdam:20250806T230000
DTSTAMP:20260423T000030
CREATED:20250708T214619Z
LAST-MODIFIED:20250709T002552Z
UID:86774-1754506800-1754521200@djlatinpro.com
SUMMARY:Fuego Tropical @ Beton T\, Utrecht
DESCRIPTION:
URL:https://djlatinpro.com/event/fuegotropical/
CATEGORIES:Booking
END:VEVENT
BEGIN:VEVENT
DTSTART;TZID=Europe/Amsterdam:20250816T200000
DTEND;TZID=Europe/Amsterdam:20250817T010000
DTSTAMP:20260423T000030
CREATED:20250805T005122Z
LAST-MODIFIED:20250805T005122Z
UID:86824-1755374400-1755392400@djlatinpro.com
SUMMARY:YaSalsa Arnhem - Eindfeest - 20 jaar dans\, (re)connecting & memories @ YaSalsa\, Arnhem
DESCRIPTION:
URL:https://djlatinpro.com/event/yasalsa-arnhem-eindfeest-20-jaar-dans-reconnecting-memories-yasalsa-arnhem/
CATEGORIES:Booking
END:VEVENT
BEGIN:VEVENT
DTSTART;TZID=Europe/Amsterdam:20250822T210000
DTEND;TZID=Europe/Amsterdam:20250823T020000
DTSTAMP:20260423T000030
CREATED:20250708T215318Z
LAST-MODIFIED:20250709T002828Z
UID:86779-1755896400-1755914400@djlatinpro.com
SUMMARY:Bachata Kombina ku Sensual @ Club Circle\, Arnhem
DESCRIPTION:
URL:https://djlatinpro.com/event/bachata-kombina-ku-sensual-arnhem-2/
CATEGORIES:Booking
END:VEVENT
BEGIN:VEVENT
DTSTART;TZID=Europe/Amsterdam:20250824T190000
DTEND;TZID=Europe/Amsterdam:20250824T230000
DTSTAMP:20260423T000030
CREATED:20250708T215508Z
LAST-MODIFIED:20250709T002430Z
UID:86781-1756062000-1756076400@djlatinpro.com
SUMMARY:Latin Sunday @ Erica Kapel\, Ede
DESCRIPTION:
URL:https://djlatinpro.com/event/latin-sunday-ede/
CATEGORIES:Booking
END:VEVENT
BEGIN:VEVENT
DTSTART;TZID=Europe/Amsterdam:20250829T200000
DTEND;TZID=Europe/Amsterdam:20250830T010000
DTSTAMP:20260423T000030
CREATED:20250325T223244Z
LAST-MODIFIED:20250326T171446Z
UID:85950-1756497600-1756515600@djlatinpro.com
SUMMARY:Wedding @ Arnhem
DESCRIPTION:
URL:https://djlatinpro.com/event/wedding-arnhem/
CATEGORIES:Booking
END:VEVENT
BEGIN:VEVENT
DTSTART;TZID=Europe/Amsterdam:20250830T200000
DTEND;TZID=Europe/Amsterdam:20250831T020000
DTSTAMP:20260423T000030
CREATED:20250508T225024Z
LAST-MODIFIED:20250927T011431Z
UID:86342-1756584000-1756605600@djlatinpro.com
SUMMARY:☆LATIN-X-PLOSION☆ 2 Area's || Salsa & Bachata // Kizomba
DESCRIPTION:Koop Ticket Hier &#8212;> \nDJ Latin Pro presents\n☆☆☆LATIN-X-PLOSION☆☆☆ 2 Dance Area&#8217;s \nOp zaterdag 30 augustus 2025 vind LATIN-X-PLOSION plaats te Wensink in Apeldoorn. \nLatin-X-Plosion bestaat uit 2 dans-area’s speciaal geselecteerd voor de ultieme Latin & Afro experience.\nMet verschillende top dj’s achter de draaitafels\, krijg je gegarandeerd een spetterende dansavond in stijl! \nOm alvast in de juiste feeststemming te komen starten we de avond met een workshop\,\ndie verzorgt worden door verschillende top dans-docenten uit de danswereld.\nLatin-X-plosion een feest om niet te missen! \n☆☆☆☆☆☆☆☆☆☆ ☆☆☆☆☆☆☆☆☆☆ \n☆☆☆WORKSHOP☆☆☆\n20:05- 20:55 | Bachata Dominican o.l.v. El Matatan\n*Deelname aan de workshops vraagt om een vroege aanwezigheid. Deuren open om 19:50 uur! \n21:05- 21:55 | Kizomba Fusion o.l.v. Wanita & Mo\n*Deelname aan de workshops vraagt om een vroege aanwezigheid. \n☆☆☆SHOW☆☆☆\n00:00- 00:05 | Solo Show by Laura Truijens \n☆☆☆ SALSA & BACHATA AREA☆☆☆DJ Latin Pro (Arnhem)DJ Rochella (Rotterdam)DJ Virgil (Rotterdam) \n☆☆☆KIZOMBA AREA☆☆☆\nDJ Dude (Haarlem)\nDJ Asile (Rotterdam) \n☆☆☆PICTURES☆☆☆\nFotograaf Victor Reinier legt al je mooiste dansmomenten vast. \n☆☆☆☆☆☆☆☆☆☆ ☆☆☆☆☆☆☆☆☆☆ \n☆☆☆ ALGEMENE INFO ☆☆☆\nDatum: Zaterdag 30 augustus 2025\nTijd: 20:00 – 02:00\n• Gratis garderobe\n• Gratis parkeerplaatsen \n☆☆☆ LOCATIE ☆☆☆\nWensink Dance Masters\nMusschenbroekstraat 19\, 7316JD te Apeldoorn \n☆☆☆ TICKETS ☆☆☆\nOnline tickets verkrijgbaar via www.latinxplosion.nl\n• Early Bird ticket: €12\,50 (beperkt aantal tickets beschikbaar)\n• Regular ticket: €15\,00\n• Door ticket: €17\,50 (cash of pin) \nKoop Ticket Hier &#8212;> \n* Tickets verkoop start op 05-08-2025 en eindigt op 30-08-2025 om 19:00 uur.\nReeds gekochte tickets alleen retour bij annulering door de organisatie.
URL:https://djlatinpro.com/event/latin-x-plosion-wensink-dm-apeldoorn-2/
LOCATION:Wensink Dance Masters\, Musschenbroekstraat 19\, Apeldoorn\, Gelderland\, 7316JD\, Netherlands
CATEGORIES:bachata,Caribbean,Cuban,kizomba,Latin,lxp,Mambo,Party,salsa,Workshop
ATTACH;FMTTYPE=image/png:https://djlatinpro.com/wp-content/uploads/2025/05/Facebook-banner-AUG-2025_4-scaled.png
END:VEVENT
BEGIN:VEVENT
DTSTART;TZID=Europe/Amsterdam:20250905T210000
DTEND;TZID=Europe/Amsterdam:20250906T020000
DTSTAMP:20260423T000030
CREATED:20250822T161918Z
LAST-MODIFIED:20250822T161918Z
UID:86889-1757106000-1757124000@djlatinpro.com
SUMMARY:Latin Friday @ Cafe Tropical\, Utrecht
DESCRIPTION:
URL:https://djlatinpro.com/event/latin-friday-cafe-tropical-utrecht-9/
CATEGORIES:Booking
END:VEVENT
BEGIN:VEVENT
DTSTART;TZID=Europe/Amsterdam:20250906T210000
DTEND;TZID=Europe/Amsterdam:20250907T030000
DTSTAMP:20260423T000030
CREATED:20250617T215205Z
LAST-MODIFIED:20250617T215350Z
UID:86633-1757192400-1757214000@djlatinpro.com
SUMMARY:Salsa Madhouse @ Galgenwaard\, Utrecht
DESCRIPTION:
URL:https://djlatinpro.com/event/salsa-madhouse-galgenwaard-utrecht/
CATEGORIES:Booking
END:VEVENT
BEGIN:VEVENT
DTSTART;TZID=Europe/Amsterdam:20250913T210000
DTEND;TZID=Europe/Amsterdam:20250914T010000
DTSTAMP:20260423T000030
CREATED:20250822T162746Z
LAST-MODIFIED:20250822T162746Z
UID:86893-1757797200-1757811600@djlatinpro.com
SUMMARY:Jerry's Latin Party @ 't Holland 39\, Duiven
DESCRIPTION:
URL:https://djlatinpro.com/event/jerrys-latin-party-t-holland-39-duiven-2/
CATEGORIES:Booking
END:VEVENT
BEGIN:VEVENT
DTSTART;TZID=Europe/Amsterdam:20250913T210000
DTEND;TZID=Europe/Amsterdam:20250914T020000
DTSTAMP:20260423T000030
CREATED:20250822T161802Z
LAST-MODIFIED:20250822T161802Z
UID:86887-1757797200-1757815200@djlatinpro.com
SUMMARY:All Friday’s Party @ Amanne\, Nijmegen
DESCRIPTION:
URL:https://djlatinpro.com/event/all-fridays-party-amanne-nijmegen-6/
CATEGORIES:Booking
END:VEVENT
BEGIN:VEVENT
DTSTART;TZID=Europe/Amsterdam:20250926T210000
DTEND;TZID=Europe/Amsterdam:20250927T020000
DTSTAMP:20260423T000030
CREATED:20250822T162108Z
LAST-MODIFIED:20250822T162108Z
UID:86891-1758920400-1758938400@djlatinpro.com
SUMMARY:Latin Friday @ Cafe Tropical\, Utrecht
DESCRIPTION:
URL:https://djlatinpro.com/event/latin-friday-cafe-tropical-utrecht-10/
CATEGORIES:Booking
END:VEVENT
BEGIN:VEVENT
DTSTART;TZID=Europe/Amsterdam:20250927T210000
DTEND;TZID=Europe/Amsterdam:20250928T020000
DTSTAMP:20260423T000030
CREATED:20250508T225144Z
LAST-MODIFIED:20250901T112345Z
UID:86344-1759006800-1759024800@djlatinpro.com
SUMMARY:☆LATIN-X-PLOSION☆ 2 Area's || Salsa & Bachata // Kizomba
DESCRIPTION:Koop Ticket Hier &#8212;> \nDJ Latin Pro presents\n☆☆☆LATIN-X-PLOSION☆☆☆ 2 Dance Area&#8217;s \nOp zaterdag 27 september  2025 vind LATIN-X-PLOSION plaats te Wensink in Apeldoorn. \nLatin-X-Plosion bestaat uit 2 dans-area’s speciaal geselecteerd voor de ultieme Latin & Afro experience.\nMet verschillende top dj’s achter de draaitafels\, krijg je gegarandeerd een spetterende dansavond in stijl! \nOm alvast in de juiste feeststemming te komen starten we de avond met een workshop\,\ndie verzorgt worden door verschillende top dans-docenten uit de danswereld.\nLatin-X-plosion een feest om niet te missen! \n☆☆☆☆☆☆☆☆☆☆ ☆☆☆☆☆☆☆☆☆☆ \n☆☆☆WORKSHOP☆☆☆\n21:05- 21:55 | Master Class Salsa o.l.v. Brian Libier (Salsaddiction)\n*Deelname aan de workshops vraagt om een vroege aanwezigheid. Deuren open om 20:50 uur! \n☆☆☆ SALSA & BACHATA AREA☆☆☆DJ Latin Pro (Arnhem)DJ Andre (Breukelen)DJ Charlie (Den Haag) \n☆☆☆KIZOMBA AREA☆☆☆\nDJ Jack (Eindhoven)\nDJ O.P.A (Amsterdam) \n☆☆☆PICTURES☆☆☆\nFotograaf Victor Reinier legt al je mooiste dansmomenten vast. \n☆☆☆☆☆☆☆☆☆☆ ☆☆☆☆☆☆☆☆☆☆ \n☆☆☆ ALGEMENE INFO ☆☆☆\nDatum: Zaterdag 27 september 2025\nTijd: 21:00 – 02:00\n• Gratis garderobe\n• Gratis parkeerplaatsen \n☆☆☆ LOCATIE ☆☆☆\nWensink Dance Masters\nMusschenbroekstraat 19\, 7316JD te Apeldoorn \n☆☆☆ TICKETS ☆☆☆\nOnline tickets verkrijgbaar via www.latinxplosion.nl\n• Early Bird ticket: €12\,50 (beperkt aantal tickets beschikbaar)\n• Regular ticket: €15\,00\n• Door ticket: €17\,50 (cash of pin) \nKoop Ticket Hier &#8212;> \n* Tickets verkoop start op 01-09-2025 en eindigt op 27-09-2025 om 20:00 uur.\nReeds gekochte tickets alleen retour bij annulering door de organisatie.
URL:https://djlatinpro.com/event/latinxplosion27sept2025/
LOCATION:Wensink Dance Masters\, Musschenbroekstraat 19\, Apeldoorn\, Gelderland\, 7316JD\, Netherlands
CATEGORIES:bachata,Caribbean,Cuban,kizomba,Latin,lxp,Mambo,Party,salsa,Workshop
ATTACH;FMTTYPE=image/png:https://djlatinpro.com/wp-content/uploads/2025/09/FB-Eventbanner-LXP-27-sept-2025-scaled.png
END:VEVENT
BEGIN:VEVENT
DTSTART;TZID=Europe/Amsterdam:20251010T220000
DTEND;TZID=Europe/Amsterdam:20251011T020000
DTSTAMP:20260423T000030
CREATED:20250925T190312Z
LAST-MODIFIED:20250925T190312Z
UID:87182-1760133600-1760148000@djlatinpro.com
SUMMARY:All Friday's Party @ Amanne\, Nijmegen
DESCRIPTION:
URL:https://djlatinpro.com/event/all-fridays-party-amanne-nijmegen-7/
CATEGORIES:Booking
END:VEVENT
BEGIN:VEVENT
DTSTART;TZID=Europe/Amsterdam:20251017T193000
DTEND;TZID=Europe/Amsterdam:20251018T010000
DTSTAMP:20260423T000030
CREATED:20251013T090321Z
LAST-MODIFIED:20251013T090321Z
UID:87403-1760729400-1760749200@djlatinpro.com
SUMMARY:SBK Lelystyle @ Flex Gym\, Lelystad
DESCRIPTION:
URL:https://djlatinpro.com/event/sbk-lelystyle-flex-gym-lelystad/
CATEGORIES:Booking
END:VEVENT
BEGIN:VEVENT
DTSTART;TZID=Europe/Amsterdam:20251024T220000
DTEND;TZID=Europe/Amsterdam:20251025T020000
DTSTAMP:20260423T000030
CREATED:20250925T190519Z
LAST-MODIFIED:20250925T190552Z
UID:87184-1761343200-1761357600@djlatinpro.com
SUMMARY:All Friday's Party @ Amanne\, Nijmegen
DESCRIPTION:
URL:https://djlatinpro.com/event/all-fridays-party-amanne-nijmegen-8/
CATEGORIES:Booking
END:VEVENT
BEGIN:VEVENT
DTSTART;TZID=Europe/Amsterdam:20251025T200000
DTEND;TZID=Europe/Amsterdam:20251026T020000
DTSTAMP:20260423T000030
CREATED:20250925T223718Z
LAST-MODIFIED:20250930T102019Z
UID:87198-1761422400-1761444000@djlatinpro.com
SUMMARY:LATIN-X-PLOSION • Halloween Edition
DESCRIPTION:Koop Ticket Hier &#8212;> \nDJ Latin Pro presents\n☆☆☆LATIN-X-PLOSION☆☆☆ 2 Dance Area&#8217;s \nOp zaterdag 25 oktober 2025 vind LATIN-X-PLOSION • Halloween editie plaats te Wensink in Apeldoorn. \nLatin-X-Plosion bestaat uit 2 dans-area’s speciaal geselecteerd voor de ultieme Latin & Afro experience.\nMet verschillende top dj’s achter de draaitafels\, krijg je gegarandeerd een spetterende dansavond in stijl! \nOm alvast in de juiste feeststemming te komen starten we de avond met een workshop\,\ndie verzorgt worden door verschillende top dans-docenten uit de danswereld.\nLatin-X-plosion een feest om niet te missen! \nDe dresscode is SCARY.\n*Kledij is geen vereiste. \n☆☆☆☆☆☆☆☆☆☆ ☆☆☆☆☆☆☆☆☆☆ \n☆☆☆WORKSHOP☆☆☆\n20:05- 20:55 | Bachata Romantica o.l.v. SalsaShakers\n*Deelname aan de workshops vraagt om een vroege aanwezigheid. Deuren open om 19:50 uur! \n21:05- 21:55 | Bachata Dominican o.l.v. El Matatan\n*Deelname aan de workshops vraagt om een vroege aanwezigheid. \n☆☆☆ SALSA & BACHATA AREA☆☆☆DJ Latin Pro (Arnhem)DJ Bripa (Amsterdam)DJ Mo (Tilburg) \n☆☆☆KIZOMBA AREA☆☆☆\nDJ Dude (Haarlem)\nDJ  JSI (Enschede) \n☆☆☆PICTURES☆☆☆\nFotograaf Victor Reinier legt al je mooiste dansmomenten vast. \n☆☆☆☆☆☆☆☆☆☆ ☆☆☆☆☆☆☆☆☆☆ \n☆☆☆ ALGEMENE INFO ☆☆☆\nDatum: Zaterdag 25 oktober 2025\nTijd: 20:00 – 02:00\n• Gratis garderobe\n• Gratis parkeerplaatsen \n☆☆☆ LOCATIE ☆☆☆\nWensink Dance Masters\nMusschenbroekstraat 19\, 7316JD te Apeldoorn \n☆☆☆ TICKETS ☆☆☆\nOnline tickets verkrijgbaar via www.latinxplosion.nl\n• Early Bird ticket: €12\,50 (beperkt aantal tickets beschikbaar)\n• Regular ticket: €15\,00\n• Door ticket: €17\,50 (cash of pin) \nKoop Ticket Hier &#8212;> \n* Tickets verkoop start op 25-09-2025 en eindigt op 25-10-2025 om 19:00 uur.\nReeds gekochte tickets alleen retour bij annulering door de organisatie.
URL:https://djlatinpro.com/event/latin-x-plosion-halloween-edition/
LOCATION:Wensink Dance Masters\, Musschenbroekstraat 19\, Apeldoorn\, Gelderland\, 7316JD\, Netherlands
ATTACH;FMTTYPE=image/png:https://djlatinpro.com/wp-content/uploads/2025/09/2-scaled.png
ORGANIZER;CN="DJ Latin Pro":MAILTO:info@djlatinpro.com
END:VEVENT
BEGIN:VEVENT
DTSTART;TZID=Europe/Amsterdam:20251031T210000
DTEND;TZID=Europe/Amsterdam:20251101T010000
DTSTAMP:20260423T000030
CREATED:20250925T191111Z
LAST-MODIFIED:20250925T191111Z
UID:87188-1761944400-1761958800@djlatinpro.com
SUMMARY:Latin Friday @ Cafe Tropical\, Utrecht
DESCRIPTION:
URL:https://djlatinpro.com/event/latin-friday-cafe-tropical-utrecht-11/
CATEGORIES:Booking
END:VEVENT
BEGIN:VEVENT
DTSTART;TZID=Europe/Amsterdam:20251101T210000
DTEND;TZID=Europe/Amsterdam:20251102T010000
DTSTAMP:20260423T000030
CREATED:20250822T162837Z
LAST-MODIFIED:20250822T163016Z
UID:86895-1762030800-1762045200@djlatinpro.com
SUMMARY:Jerry's Latin Party @ 't Holland 39\, Duiven
DESCRIPTION:
URL:https://djlatinpro.com/event/jerrys-latin-party-t-holland-39-duiven-3/
CATEGORIES:Booking
END:VEVENT
BEGIN:VEVENT
DTSTART;TZID=Europe/Amsterdam:20251109T120000
DTEND;TZID=Europe/Amsterdam:20251109T223000
DTSTAMP:20260423T000030
CREATED:20250618T071437Z
LAST-MODIFIED:20250618T071437Z
UID:86638-1762689600-1762727400@djlatinpro.com
SUMMARY:Una Vaina Bien - Bachata Day @ CKC\, Zoetemeer
DESCRIPTION:
URL:https://djlatinpro.com/event/una-vaina-bien-bachata-day-ckc-zoetemeer/
CATEGORIES:Booking
END:VEVENT
BEGIN:VEVENT
DTSTART;TZID=Europe/Amsterdam:20251114T210000
DTEND;TZID=Europe/Amsterdam:20251115T020000
DTSTAMP:20260423T000030
CREATED:20250925T192534Z
LAST-MODIFIED:20251027T180808Z
UID:87194-1763154000-1763172000@djlatinpro.com
SUMMARY:Latin Friday @ Cafe Tropical • Utrecht
DESCRIPTION:
URL:https://djlatinpro.com/event/latinfridaycafetropicalutrecht141125/
CATEGORIES:Booking
END:VEVENT
END:VCALENDAR